BEGIN:VCALENDAR
VERSION:2.0
PRODID:-//Tseshaht First Nation - ECPv6.15.20//NONSGML v1.0//EN
CALSCALE:GREGORIAN
METHOD:PUBLISH
X-ORIGINAL-URL:https://tseshaht.com
X-WR-CALDESC:Events for Tseshaht First Nation
REFRESH-INTERVAL;VALUE=DURATION:PT1H
X-Robots-Tag:noindex
X-PUBLISHED-TTL:PT1H
BEGIN:VTIMEZONE
TZID:America/Vancouver
BEGIN:DAYLIGHT
TZOFFSETFROM:-0800
TZOFFSETTO:-0700
TZNAME:PDT
DTSTART:20240310T100000
END:DAYLIGHT
BEGIN:STANDARD
TZOFFSETFROM:-0700
TZOFFSETTO:-0800
TZNAME:PST
DTSTART:20241103T090000
END:STANDARD
BEGIN:DAYLIGHT
TZOFFSETFROM:-0800
TZOFFSETTO:-0700
TZNAME:PDT
DTSTART:20250309T100000
END:DAYLIGHT
BEGIN:STANDARD
TZOFFSETFROM:-0700
TZOFFSETTO:-0800
TZNAME:PST
DTSTART:20251102T090000
END:STANDARD
BEGIN:DAYLIGHT
TZOFFSETFROM:-0800
TZOFFSETTO:-0700
TZNAME:PDT
DTSTART:20260308T100000
END:DAYLIGHT
BEGIN:STANDARD
TZOFFSETFROM:-0700
TZOFFSETTO:-0800
TZNAME:PST
DTSTART:20261101T090000
END:STANDARD
END:VTIMEZONE
BEGIN:VEVENT
DTSTART;TZID=America/Vancouver:20251104T120000
DTEND;TZID=America/Vancouver:20251104T130000
DTSTAMP:20260422T054220
CREATED:20251028T204553Z
LAST-MODIFIED:20251028T204553Z
UID:10014156-1762257600-1762261200@tseshaht.com
SUMMARY:Lunchtime Light Stretch
DESCRIPTION:
URL:https://tseshaht.com/event/lunchtime-light-stretch/2025-11-04/
LOCATION:Somass Hall (Main Level)\, 6200 Gallic Rd\, Canada
CATEGORIES:Community,Elders,Fitness,Youth
ORGANIZER;CN="Gail K. Gus%2C Crisis Care and Wellness Coordinator":MAILTO:gkgus@tseshaht.com
END:VEVENT
BEGIN:VEVENT
DTSTART;TZID=America/Vancouver:20251104T150000
DTEND;TZID=America/Vancouver:20251104T180000
DTSTAMP:20260422T054220
CREATED:20251028T210253Z
LAST-MODIFIED:20251028T210253Z
UID:10014269-1762268400-1762279200@tseshaht.com
SUMMARY:Youth - Gym Drop-in
DESCRIPTION:
URL:https://tseshaht.com/event/youth-gym-drop-in/2025-11-04/
LOCATION:Maht Mahs Gym\, 5091 Tsuma-as Drive\, Port Alberni\, British Columbia\, V9Y 8X9\, Canada
CATEGORIES:Fitness,Youth
END:VEVENT
BEGIN:VEVENT
DTSTART;TZID=America/Vancouver:20251105T120000
DTEND;TZID=America/Vancouver:20251105T130000
DTSTAMP:20260422T054220
CREATED:20251028T204553Z
LAST-MODIFIED:20251028T204553Z
UID:10014157-1762344000-1762347600@tseshaht.com
SUMMARY:Lunchtime Light Stretch
DESCRIPTION:
URL:https://tseshaht.com/event/lunchtime-light-stretch/2025-11-05/
LOCATION:Somass Hall (Main Level)\, 6200 Gallic Rd\, Canada
CATEGORIES:Community,Elders,Fitness,Youth
ORGANIZER;CN="Gail K. Gus%2C Crisis Care and Wellness Coordinator":MAILTO:gkgus@tseshaht.com
END:VEVENT
BEGIN:VEVENT
DTSTART;TZID=America/Vancouver:20251105T180000
DTEND;TZID=America/Vancouver:20251105T190000
DTSTAMP:20260422T054220
CREATED:20251028T204131Z
LAST-MODIFIED:20251028T204131Z
UID:10014143-1762365600-1762369200@tseshaht.com
SUMMARY:Yoga Therapy
DESCRIPTION:
URL:https://tseshaht.com/event/yoga-therapy/2025-11-05/
LOCATION:Somass Hall (Main Level)\, 6200 Gallic Rd\, Canada
CATEGORIES:Community,Elders,Fitness,Youth
END:VEVENT
BEGIN:VEVENT
DTSTART;TZID=America/Vancouver:20251106T120000
DTEND;TZID=America/Vancouver:20251106T130000
DTSTAMP:20260422T054220
CREATED:20251028T204553Z
LAST-MODIFIED:20251028T204553Z
UID:10014158-1762430400-1762434000@tseshaht.com
SUMMARY:Lunchtime Light Stretch
DESCRIPTION:
URL:https://tseshaht.com/event/lunchtime-light-stretch/2025-11-06/
LOCATION:Somass Hall (Main Level)\, 6200 Gallic Rd\, Canada
CATEGORIES:Community,Elders,Fitness,Youth
ORGANIZER;CN="Gail K. Gus%2C Crisis Care and Wellness Coordinator":MAILTO:gkgus@tseshaht.com
END:VEVENT
BEGIN:VEVENT
DTSTART;TZID=America/Vancouver:20251106T150000
DTEND;TZID=America/Vancouver:20251106T180000
DTSTAMP:20260422T054220
CREATED:20251028T210253Z
LAST-MODIFIED:20251028T210253Z
UID:10014270-1762441200-1762452000@tseshaht.com
SUMMARY:Youth - Gym Drop-in
DESCRIPTION:
URL:https://tseshaht.com/event/youth-gym-drop-in/2025-11-06/
LOCATION:Maht Mahs Gym\, 5091 Tsuma-as Drive\, Port Alberni\, British Columbia\, V9Y 8X9\, Canada
CATEGORIES:Fitness,Youth
END:VEVENT
BEGIN:VEVENT
DTSTART;TZID=America/Vancouver:20251107T180000
DTEND;TZID=America/Vancouver:20251107T190000
DTSTAMP:20260422T054220
CREATED:20251028T204131Z
LAST-MODIFIED:20251028T204131Z
UID:10014144-1762538400-1762542000@tseshaht.com
SUMMARY:Yoga Therapy
DESCRIPTION:
URL:https://tseshaht.com/event/yoga-therapy/2025-11-07/
LOCATION:Somass Hall (Main Level)\, 6200 Gallic Rd\, Canada
CATEGORIES:Community,Elders,Fitness,Youth
END:VEVENT
BEGIN:VEVENT
DTSTART;TZID=America/Vancouver:20251111T120000
DTEND;TZID=America/Vancouver:20251111T130000
DTSTAMP:20260422T054220
CREATED:20251028T204553Z
LAST-MODIFIED:20251028T204553Z
UID:10014159-1762862400-1762866000@tseshaht.com
SUMMARY:Lunchtime Light Stretch
DESCRIPTION:
URL:https://tseshaht.com/event/lunchtime-light-stretch/2025-11-11/
LOCATION:Somass Hall (Main Level)\, 6200 Gallic Rd\, Canada
CATEGORIES:Community,Elders,Fitness,Youth
ORGANIZER;CN="Gail K. Gus%2C Crisis Care and Wellness Coordinator":MAILTO:gkgus@tseshaht.com
END:VEVENT
BEGIN:VEVENT
DTSTART;TZID=America/Vancouver:20251111T150000
DTEND;TZID=America/Vancouver:20251111T180000
DTSTAMP:20260422T054220
CREATED:20251028T210253Z
LAST-MODIFIED:20251028T210253Z
UID:10014271-1762873200-1762884000@tseshaht.com
SUMMARY:Youth - Gym Drop-in
DESCRIPTION:
URL:https://tseshaht.com/event/youth-gym-drop-in/2025-11-11/
LOCATION:Maht Mahs Gym\, 5091 Tsuma-as Drive\, Port Alberni\, British Columbia\, V9Y 8X9\, Canada
CATEGORIES:Fitness,Youth
END:VEVENT
BEGIN:VEVENT
DTSTART;TZID=America/Vancouver:20251112T120000
DTEND;TZID=America/Vancouver:20251112T130000
DTSTAMP:20260422T054220
CREATED:20251028T204553Z
LAST-MODIFIED:20251028T204553Z
UID:10014160-1762948800-1762952400@tseshaht.com
SUMMARY:Lunchtime Light Stretch
DESCRIPTION:
URL:https://tseshaht.com/event/lunchtime-light-stretch/2025-11-12/
LOCATION:Somass Hall (Main Level)\, 6200 Gallic Rd\, Canada
CATEGORIES:Community,Elders,Fitness,Youth
ORGANIZER;CN="Gail K. Gus%2C Crisis Care and Wellness Coordinator":MAILTO:gkgus@tseshaht.com
END:VEVENT
BEGIN:VEVENT
DTSTART;TZID=America/Vancouver:20251112T180000
DTEND;TZID=America/Vancouver:20251112T190000
DTSTAMP:20260422T054220
CREATED:20251028T204131Z
LAST-MODIFIED:20251028T204131Z
UID:10014145-1762970400-1762974000@tseshaht.com
SUMMARY:Yoga Therapy
DESCRIPTION:
URL:https://tseshaht.com/event/yoga-therapy/2025-11-12/
LOCATION:Somass Hall (Main Level)\, 6200 Gallic Rd\, Canada
CATEGORIES:Community,Elders,Fitness,Youth
END:VEVENT
BEGIN:VEVENT
DTSTART;TZID=America/Vancouver:20251113T120000
DTEND;TZID=America/Vancouver:20251113T130000
DTSTAMP:20260422T054220
CREATED:20251028T204553Z
LAST-MODIFIED:20251028T204553Z
UID:10014161-1763035200-1763038800@tseshaht.com
SUMMARY:Lunchtime Light Stretch
DESCRIPTION:
URL:https://tseshaht.com/event/lunchtime-light-stretch/2025-11-13/
LOCATION:Somass Hall (Main Level)\, 6200 Gallic Rd\, Canada
CATEGORIES:Community,Elders,Fitness,Youth
ORGANIZER;CN="Gail K. Gus%2C Crisis Care and Wellness Coordinator":MAILTO:gkgus@tseshaht.com
END:VEVENT
BEGIN:VEVENT
DTSTART;TZID=America/Vancouver:20251113T150000
DTEND;TZID=America/Vancouver:20251113T180000
DTSTAMP:20260422T054220
CREATED:20251028T210253Z
LAST-MODIFIED:20251028T210253Z
UID:10014272-1763046000-1763056800@tseshaht.com
SUMMARY:Youth - Gym Drop-in
DESCRIPTION:
URL:https://tseshaht.com/event/youth-gym-drop-in/2025-11-13/
LOCATION:Maht Mahs Gym\, 5091 Tsuma-as Drive\, Port Alberni\, British Columbia\, V9Y 8X9\, Canada
CATEGORIES:Fitness,Youth
END:VEVENT
BEGIN:VEVENT
DTSTART;TZID=America/Vancouver:20251114T180000
DTEND;TZID=America/Vancouver:20251114T190000
DTSTAMP:20260422T054220
CREATED:20251028T204131Z
LAST-MODIFIED:20251028T204131Z
UID:10014146-1763143200-1763146800@tseshaht.com
SUMMARY:Yoga Therapy
DESCRIPTION:
URL:https://tseshaht.com/event/yoga-therapy/2025-11-14/
LOCATION:Somass Hall (Main Level)\, 6200 Gallic Rd\, Canada
CATEGORIES:Community,Elders,Fitness,Youth
END:VEVENT
BEGIN:VEVENT
DTSTART;TZID=America/Vancouver:20251118T120000
DTEND;TZID=America/Vancouver:20251118T130000
DTSTAMP:20260422T054220
CREATED:20251028T204553Z
LAST-MODIFIED:20251028T204553Z
UID:10014162-1763467200-1763470800@tseshaht.com
SUMMARY:Lunchtime Light Stretch
DESCRIPTION:
URL:https://tseshaht.com/event/lunchtime-light-stretch/2025-11-18/
LOCATION:Somass Hall (Main Level)\, 6200 Gallic Rd\, Canada
CATEGORIES:Community,Elders,Fitness,Youth
ORGANIZER;CN="Gail K. Gus%2C Crisis Care and Wellness Coordinator":MAILTO:gkgus@tseshaht.com
END:VEVENT
BEGIN:VEVENT
DTSTART;TZID=America/Vancouver:20251118T150000
DTEND;TZID=America/Vancouver:20251118T180000
DTSTAMP:20260422T054220
CREATED:20251028T210253Z
LAST-MODIFIED:20251028T210253Z
UID:10014273-1763478000-1763488800@tseshaht.com
SUMMARY:Youth - Gym Drop-in
DESCRIPTION:
URL:https://tseshaht.com/event/youth-gym-drop-in/2025-11-18/
LOCATION:Maht Mahs Gym\, 5091 Tsuma-as Drive\, Port Alberni\, British Columbia\, V9Y 8X9\, Canada
CATEGORIES:Fitness,Youth
END:VEVENT
BEGIN:VEVENT
DTSTART;TZID=America/Vancouver:20251119T120000
DTEND;TZID=America/Vancouver:20251119T130000
DTSTAMP:20260422T054220
CREATED:20251028T204553Z
LAST-MODIFIED:20251028T204553Z
UID:10014163-1763553600-1763557200@tseshaht.com
SUMMARY:Lunchtime Light Stretch
DESCRIPTION:
URL:https://tseshaht.com/event/lunchtime-light-stretch/2025-11-19/
LOCATION:Somass Hall (Main Level)\, 6200 Gallic Rd\, Canada
CATEGORIES:Community,Elders,Fitness,Youth
ORGANIZER;CN="Gail K. Gus%2C Crisis Care and Wellness Coordinator":MAILTO:gkgus@tseshaht.com
END:VEVENT
BEGIN:VEVENT
DTSTART;TZID=America/Vancouver:20251119T180000
DTEND;TZID=America/Vancouver:20251119T190000
DTSTAMP:20260422T054220
CREATED:20251028T204131Z
LAST-MODIFIED:20251028T204131Z
UID:10014147-1763575200-1763578800@tseshaht.com
SUMMARY:Yoga Therapy
DESCRIPTION:
URL:https://tseshaht.com/event/yoga-therapy/2025-11-19/
LOCATION:Somass Hall (Main Level)\, 6200 Gallic Rd\, Canada
CATEGORIES:Community,Elders,Fitness,Youth
END:VEVENT
BEGIN:VEVENT
DTSTART;TZID=America/Vancouver:20251120T120000
DTEND;TZID=America/Vancouver:20251120T130000
DTSTAMP:20260422T054220
CREATED:20251028T204553Z
LAST-MODIFIED:20251028T204553Z
UID:10014164-1763640000-1763643600@tseshaht.com
SUMMARY:Lunchtime Light Stretch
DESCRIPTION:
URL:https://tseshaht.com/event/lunchtime-light-stretch/2025-11-20/
LOCATION:Somass Hall (Main Level)\, 6200 Gallic Rd\, Canada
CATEGORIES:Community,Elders,Fitness,Youth
ORGANIZER;CN="Gail K. Gus%2C Crisis Care and Wellness Coordinator":MAILTO:gkgus@tseshaht.com
END:VEVENT
BEGIN:VEVENT
DTSTART;TZID=America/Vancouver:20251120T150000
DTEND;TZID=America/Vancouver:20251120T180000
DTSTAMP:20260422T054220
CREATED:20251028T210253Z
LAST-MODIFIED:20251028T210253Z
UID:10014274-1763650800-1763661600@tseshaht.com
SUMMARY:Youth - Gym Drop-in
DESCRIPTION:
URL:https://tseshaht.com/event/youth-gym-drop-in/2025-11-20/
LOCATION:Maht Mahs Gym\, 5091 Tsuma-as Drive\, Port Alberni\, British Columbia\, V9Y 8X9\, Canada
CATEGORIES:Fitness,Youth
END:VEVENT
BEGIN:VEVENT
DTSTART;TZID=America/Vancouver:20251121T180000
DTEND;TZID=America/Vancouver:20251121T190000
DTSTAMP:20260422T054220
CREATED:20251028T204131Z
LAST-MODIFIED:20251028T204131Z
UID:10014148-1763748000-1763751600@tseshaht.com
SUMMARY:Yoga Therapy
DESCRIPTION:
URL:https://tseshaht.com/event/yoga-therapy/2025-11-21/
LOCATION:Somass Hall (Main Level)\, 6200 Gallic Rd\, Canada
CATEGORIES:Community,Elders,Fitness,Youth
END:VEVENT
BEGIN:VEVENT
DTSTART;TZID=America/Vancouver:20251125T120000
DTEND;TZID=America/Vancouver:20251125T130000
DTSTAMP:20260422T054220
CREATED:20251028T204553Z
LAST-MODIFIED:20251028T204553Z
UID:10014165-1764072000-1764075600@tseshaht.com
SUMMARY:Lunchtime Light Stretch
DESCRIPTION:
URL:https://tseshaht.com/event/lunchtime-light-stretch/2025-11-25/
LOCATION:Somass Hall (Main Level)\, 6200 Gallic Rd\, Canada
CATEGORIES:Community,Elders,Fitness,Youth
ORGANIZER;CN="Gail K. Gus%2C Crisis Care and Wellness Coordinator":MAILTO:gkgus@tseshaht.com
END:VEVENT
BEGIN:VEVENT
DTSTART;TZID=America/Vancouver:20251125T150000
DTEND;TZID=America/Vancouver:20251125T180000
DTSTAMP:20260422T054220
CREATED:20251028T210253Z
LAST-MODIFIED:20251028T210253Z
UID:10014275-1764082800-1764093600@tseshaht.com
SUMMARY:Youth - Gym Drop-in
DESCRIPTION:
URL:https://tseshaht.com/event/youth-gym-drop-in/2025-11-25/
LOCATION:Maht Mahs Gym\, 5091 Tsuma-as Drive\, Port Alberni\, British Columbia\, V9Y 8X9\, Canada
CATEGORIES:Fitness,Youth
END:VEVENT
BEGIN:VEVENT
DTSTART;TZID=America/Vancouver:20251126T120000
DTEND;TZID=America/Vancouver:20251126T130000
DTSTAMP:20260422T054220
CREATED:20251028T204553Z
LAST-MODIFIED:20251028T204553Z
UID:10014166-1764158400-1764162000@tseshaht.com
SUMMARY:Lunchtime Light Stretch
DESCRIPTION:
URL:https://tseshaht.com/event/lunchtime-light-stretch/2025-11-26/
LOCATION:Somass Hall (Main Level)\, 6200 Gallic Rd\, Canada
CATEGORIES:Community,Elders,Fitness,Youth
ORGANIZER;CN="Gail K. Gus%2C Crisis Care and Wellness Coordinator":MAILTO:gkgus@tseshaht.com
END:VEVENT
BEGIN:VEVENT
DTSTART;TZID=America/Vancouver:20251126T180000
DTEND;TZID=America/Vancouver:20251126T190000
DTSTAMP:20260422T054220
CREATED:20251028T204131Z
LAST-MODIFIED:20251028T204131Z
UID:10014149-1764180000-1764183600@tseshaht.com
SUMMARY:Yoga Therapy
DESCRIPTION:
URL:https://tseshaht.com/event/yoga-therapy/2025-11-26/
LOCATION:Somass Hall (Main Level)\, 6200 Gallic Rd\, Canada
CATEGORIES:Community,Elders,Fitness,Youth
END:VEVENT
BEGIN:VEVENT
DTSTART;TZID=America/Vancouver:20251127T120000
DTEND;TZID=America/Vancouver:20251127T130000
DTSTAMP:20260422T054220
CREATED:20251028T204553Z
LAST-MODIFIED:20251028T204553Z
UID:10014167-1764244800-1764248400@tseshaht.com
SUMMARY:Lunchtime Light Stretch
DESCRIPTION:
URL:https://tseshaht.com/event/lunchtime-light-stretch/2025-11-27/
LOCATION:Somass Hall (Main Level)\, 6200 Gallic Rd\, Canada
CATEGORIES:Community,Elders,Fitness,Youth
ORGANIZER;CN="Gail K. Gus%2C Crisis Care and Wellness Coordinator":MAILTO:gkgus@tseshaht.com
END:VEVENT
BEGIN:VEVENT
DTSTART;TZID=America/Vancouver:20251127T150000
DTEND;TZID=America/Vancouver:20251127T180000
DTSTAMP:20260422T054220
CREATED:20251028T210253Z
LAST-MODIFIED:20251028T210253Z
UID:10014276-1764255600-1764266400@tseshaht.com
SUMMARY:Youth - Gym Drop-in
DESCRIPTION:
URL:https://tseshaht.com/event/youth-gym-drop-in/2025-11-27/
LOCATION:Maht Mahs Gym\, 5091 Tsuma-as Drive\, Port Alberni\, British Columbia\, V9Y 8X9\, Canada
CATEGORIES:Fitness,Youth
END:VEVENT
BEGIN:VEVENT
DTSTART;TZID=America/Vancouver:20251128T180000
DTEND;TZID=America/Vancouver:20251128T190000
DTSTAMP:20260422T054220
CREATED:20251028T204131Z
LAST-MODIFIED:20251028T204131Z
UID:10014150-1764352800-1764356400@tseshaht.com
SUMMARY:Yoga Therapy
DESCRIPTION:
URL:https://tseshaht.com/event/yoga-therapy/2025-11-28/
LOCATION:Somass Hall (Main Level)\, 6200 Gallic Rd\, Canada
CATEGORIES:Community,Elders,Fitness,Youth
END:VEVENT
END:VCALENDAR