BEGIN:VCALENDAR
VERSION:2.0
PRODID:-//Tseshaht First Nation - ECPv6.15.20//NONSGML v1.0//EN
CALSCALE:GREGORIAN
METHOD:PUBLISH
X-ORIGINAL-URL:https://tseshaht.com
X-WR-CALDESC:Events for Tseshaht First Nation
REFRESH-INTERVAL;VALUE=DURATION:PT1H
X-Robots-Tag:noindex
X-PUBLISHED-TTL:PT1H
BEGIN:VTIMEZONE
TZID:America/Vancouver
BEGIN:DAYLIGHT
TZOFFSETFROM:-0800
TZOFFSETTO:-0700
TZNAME:PDT
DTSTART:20240310T100000
END:DAYLIGHT
BEGIN:STANDARD
TZOFFSETFROM:-0700
TZOFFSETTO:-0800
TZNAME:PST
DTSTART:20241103T090000
END:STANDARD
BEGIN:DAYLIGHT
TZOFFSETFROM:-0800
TZOFFSETTO:-0700
TZNAME:PDT
DTSTART:20250309T100000
END:DAYLIGHT
BEGIN:STANDARD
TZOFFSETFROM:-0700
TZOFFSETTO:-0800
TZNAME:PST
DTSTART:20251102T090000
END:STANDARD
BEGIN:DAYLIGHT
TZOFFSETFROM:-0800
TZOFFSETTO:-0700
TZNAME:PDT
DTSTART:20260308T100000
END:DAYLIGHT
BEGIN:STANDARD
TZOFFSETFROM:-0700
TZOFFSETTO:-0800
TZNAME:PST
DTSTART:20261101T090000
END:STANDARD
END:VTIMEZONE
BEGIN:VEVENT
DTSTART;TZID=America/Vancouver:20250221T150000
DTEND;TZID=America/Vancouver:20250221T181500
DTSTAMP:20260424T180134
CREATED:20250117T183214Z
LAST-MODIFIED:20250117T183214Z
UID:10013168-1740150000-1740161700@tseshaht.com
SUMMARY:Youth Center Drop-in
DESCRIPTION:
URL:https://tseshaht.com/event/youth-center-drop-in/2025-02-21/
LOCATION:Tseshaht Youth Center\, 6666 Saiyatchapis\, Port Alberni\, BC\, V9Y8Y2
CATEGORIES:Youth
END:VEVENT
BEGIN:VEVENT
DTSTART;TZID=America/Vancouver:20250220T150000
DTEND;TZID=America/Vancouver:20250220T181500
DTSTAMP:20260424T180134
CREATED:20250117T183321Z
LAST-MODIFIED:20250226T175858Z
UID:10013233-1740063600-1740075300@tseshaht.com
SUMMARY:Youth Center Sports Drop-in
DESCRIPTION:
URL:https://tseshaht.com/event/youth-center-sports-drop-in/2025-02-20/
LOCATION:Maht Mahs Gym\, 5091 Tsuma-as Drive\, Port Alberni\, British Columbia\, V9Y 8X9\, Canada
CATEGORIES:Youth
END:VEVENT
BEGIN:VEVENT
DTSTART;TZID=America/Vancouver:20250219T150000
DTEND;TZID=America/Vancouver:20250219T181500
DTSTAMP:20260424T180134
CREATED:20250117T183214Z
LAST-MODIFIED:20250117T183214Z
UID:10013167-1739977200-1739988900@tseshaht.com
SUMMARY:Youth Center Drop-in
DESCRIPTION:
URL:https://tseshaht.com/event/youth-center-drop-in/2025-02-19/
LOCATION:Tseshaht Youth Center\, 6666 Saiyatchapis\, Port Alberni\, BC\, V9Y8Y2
CATEGORIES:Youth
END:VEVENT
BEGIN:VEVENT
DTSTART;TZID=America/Vancouver:20250218T150000
DTEND;TZID=America/Vancouver:20250218T181500
DTSTAMP:20260424T180134
CREATED:20250117T183321Z
LAST-MODIFIED:20250226T175858Z
UID:10013232-1739890800-1739902500@tseshaht.com
SUMMARY:Youth Center Sports Drop-in
DESCRIPTION:
URL:https://tseshaht.com/event/youth-center-sports-drop-in/2025-02-18/
LOCATION:Maht Mahs Gym\, 5091 Tsuma-as Drive\, Port Alberni\, British Columbia\, V9Y 8X9\, Canada
CATEGORIES:Youth
END:VEVENT
BEGIN:VEVENT
DTSTART;TZID=America/Vancouver:20250217T150000
DTEND;TZID=America/Vancouver:20250217T181500
DTSTAMP:20260424T180134
CREATED:20250117T183214Z
LAST-MODIFIED:20250117T183214Z
UID:10013166-1739804400-1739816100@tseshaht.com
SUMMARY:Youth Center Drop-in
DESCRIPTION:
URL:https://tseshaht.com/event/youth-center-drop-in/2025-02-17/
LOCATION:Tseshaht Youth Center\, 6666 Saiyatchapis\, Port Alberni\, BC\, V9Y8Y2
CATEGORIES:Youth
END:VEVENT
BEGIN:VEVENT
DTSTART;TZID=America/Vancouver:20250217T120000
DTEND;TZID=America/Vancouver:20250217T170000
DTSTAMP:20260424T180134
CREATED:20250211T201124Z
LAST-MODIFIED:20250211T201124Z
UID:10013759-1739793600-1739811600@tseshaht.com
SUMMARY:Family Day 2025
DESCRIPTION:
URL:https://tseshaht.com/event/family-day-2025/
LOCATION:Maht Mahs Gym\, 5091 Tsuma-as Drive\, Port Alberni\, British Columbia\, V9Y 8X9\, Canada
CATEGORIES:Community,Youth
END:VEVENT
BEGIN:VEVENT
DTSTART;TZID=America/Vancouver:20250214T150000
DTEND;TZID=America/Vancouver:20250214T181500
DTSTAMP:20260424T180134
CREATED:20250117T183214Z
LAST-MODIFIED:20250117T183214Z
UID:10013165-1739545200-1739556900@tseshaht.com
SUMMARY:Youth Center Drop-in
DESCRIPTION:
URL:https://tseshaht.com/event/youth-center-drop-in/2025-02-14/
LOCATION:Tseshaht Youth Center\, 6666 Saiyatchapis\, Port Alberni\, BC\, V9Y8Y2
CATEGORIES:Youth
END:VEVENT
BEGIN:VEVENT
DTSTART;TZID=America/Vancouver:20250214T090000
DTEND;TZID=America/Vancouver:20250214T153000
DTSTAMP:20260424T180134
CREATED:20250117T184347Z
LAST-MODIFIED:20250117T184347Z
UID:10013756-1739523600-1739547000@tseshaht.com
SUMMARY:Youth Breakfast\, čumas & Karaoke
DESCRIPTION:
URL:https://tseshaht.com/event/youth-breakfast-cumas-karaoke/
LOCATION:Tseshaht Youth Center\, 6666 Saiyatchapis\, Port Alberni\, BC\, V9Y8Y2
CATEGORIES:Youth
END:VEVENT
BEGIN:VEVENT
DTSTART;TZID=America/Vancouver:20250213T150000
DTEND;TZID=America/Vancouver:20250213T181500
DTSTAMP:20260424T180134
CREATED:20250117T183321Z
LAST-MODIFIED:20250226T175858Z
UID:10013231-1739458800-1739470500@tseshaht.com
SUMMARY:Youth Center Sports Drop-in
DESCRIPTION:
URL:https://tseshaht.com/event/youth-center-sports-drop-in/2025-02-13/
LOCATION:Maht Mahs Gym\, 5091 Tsuma-as Drive\, Port Alberni\, British Columbia\, V9Y 8X9\, Canada
CATEGORIES:Youth
END:VEVENT
BEGIN:VEVENT
DTSTART;TZID=America/Vancouver:20250212T150000
DTEND;TZID=America/Vancouver:20250212T181500
DTSTAMP:20260424T180134
CREATED:20250117T183214Z
LAST-MODIFIED:20250117T183214Z
UID:10013164-1739372400-1739384100@tseshaht.com
SUMMARY:Youth Center Drop-in
DESCRIPTION:
URL:https://tseshaht.com/event/youth-center-drop-in/2025-02-12/
LOCATION:Tseshaht Youth Center\, 6666 Saiyatchapis\, Port Alberni\, BC\, V9Y8Y2
CATEGORIES:Youth
END:VEVENT
BEGIN:VEVENT
DTSTART;TZID=America/Vancouver:20250211T150000
DTEND;TZID=America/Vancouver:20250211T181500
DTSTAMP:20260424T180134
CREATED:20250117T183321Z
LAST-MODIFIED:20250226T175858Z
UID:10013230-1739286000-1739297700@tseshaht.com
SUMMARY:Youth Center Sports Drop-in
DESCRIPTION:
URL:https://tseshaht.com/event/youth-center-sports-drop-in/2025-02-11/
LOCATION:Maht Mahs Gym\, 5091 Tsuma-as Drive\, Port Alberni\, British Columbia\, V9Y 8X9\, Canada
CATEGORIES:Youth
END:VEVENT
BEGIN:VEVENT
DTSTART;TZID=America/Vancouver:20250210T150000
DTEND;TZID=America/Vancouver:20250210T181500
DTSTAMP:20260424T180134
CREATED:20250117T183214Z
LAST-MODIFIED:20250117T183214Z
UID:10013163-1739199600-1739211300@tseshaht.com
SUMMARY:Youth Center Drop-in
DESCRIPTION:
URL:https://tseshaht.com/event/youth-center-drop-in/2025-02-10/
LOCATION:Tseshaht Youth Center\, 6666 Saiyatchapis\, Port Alberni\, BC\, V9Y8Y2
CATEGORIES:Youth
END:VEVENT
BEGIN:VEVENT
DTSTART;TZID=America/Vancouver:20250210T150000
DTEND;TZID=America/Vancouver:20250210T163000
DTSTAMP:20260424T180134
CREATED:20250117T184020Z
LAST-MODIFIED:20250117T184135Z
UID:10013752-1739199600-1739205000@tseshaht.com
SUMMARY:Youth Outing for Walk or Park
DESCRIPTION:
URL:https://tseshaht.com/event/outing-for-walk-or-park/2025-02-10/
CATEGORIES:Youth
END:VEVENT
BEGIN:VEVENT
DTSTART;TZID=America/Vancouver:20250207T150000
DTEND;TZID=America/Vancouver:20250207T181500
DTSTAMP:20260424T180134
CREATED:20250117T184220Z
LAST-MODIFIED:20250117T184220Z
UID:10013755-1738940400-1738952100@tseshaht.com
SUMMARY:Youth Movie Night
DESCRIPTION:
URL:https://tseshaht.com/event/youth-movie-night-2/
LOCATION:Tseshaht Youth Center\, 6666 Saiyatchapis\, Port Alberni\, BC\, V9Y8Y2
CATEGORIES:Youth
END:VEVENT
BEGIN:VEVENT
DTSTART;TZID=America/Vancouver:20250207T150000
DTEND;TZID=America/Vancouver:20250207T181500
DTSTAMP:20260424T180134
CREATED:20250117T183214Z
LAST-MODIFIED:20250117T183214Z
UID:10013162-1738940400-1738952100@tseshaht.com
SUMMARY:Youth Center Drop-in
DESCRIPTION:
URL:https://tseshaht.com/event/youth-center-drop-in/2025-02-07/
LOCATION:Tseshaht Youth Center\, 6666 Saiyatchapis\, Port Alberni\, BC\, V9Y8Y2
CATEGORIES:Youth
END:VEVENT
BEGIN:VEVENT
DTSTART;TZID=America/Vancouver:20250206T150000
DTEND;TZID=America/Vancouver:20250206T181500
DTSTAMP:20260424T180134
CREATED:20250117T183321Z
LAST-MODIFIED:20250226T175858Z
UID:10013229-1738854000-1738865700@tseshaht.com
SUMMARY:Youth Center Sports Drop-in
DESCRIPTION:
URL:https://tseshaht.com/event/youth-center-sports-drop-in/2025-02-06/
LOCATION:Maht Mahs Gym\, 5091 Tsuma-as Drive\, Port Alberni\, British Columbia\, V9Y 8X9\, Canada
CATEGORIES:Youth
END:VEVENT
BEGIN:VEVENT
DTSTART;TZID=America/Vancouver:20250205T150000
DTEND;TZID=America/Vancouver:20250205T181500
DTSTAMP:20260424T180134
CREATED:20250117T184113Z
LAST-MODIFIED:20250117T184113Z
UID:10013754-1738767600-1738779300@tseshaht.com
SUMMARY:Youth Valentine's Day Card Making
DESCRIPTION:
URL:https://tseshaht.com/event/youth-valentines-day-card-making/
LOCATION:Tseshaht Youth Center\, 6666 Saiyatchapis\, Port Alberni\, BC\, V9Y8Y2
CATEGORIES:Youth
END:VEVENT
BEGIN:VEVENT
DTSTART;TZID=America/Vancouver:20250205T150000
DTEND;TZID=America/Vancouver:20250205T181500
DTSTAMP:20260424T180134
CREATED:20250117T183214Z
LAST-MODIFIED:20250117T183214Z
UID:10013161-1738767600-1738779300@tseshaht.com
SUMMARY:Youth Center Drop-in
DESCRIPTION:
URL:https://tseshaht.com/event/youth-center-drop-in/2025-02-05/
LOCATION:Tseshaht Youth Center\, 6666 Saiyatchapis\, Port Alberni\, BC\, V9Y8Y2
CATEGORIES:Youth
END:VEVENT
BEGIN:VEVENT
DTSTART;TZID=America/Vancouver:20250204T150000
DTEND;TZID=America/Vancouver:20250204T181500
DTSTAMP:20260424T180134
CREATED:20250117T183321Z
LAST-MODIFIED:20250226T175858Z
UID:10013228-1738681200-1738692900@tseshaht.com
SUMMARY:Youth Center Sports Drop-in
DESCRIPTION:
URL:https://tseshaht.com/event/youth-center-sports-drop-in/2025-02-04/
LOCATION:Maht Mahs Gym\, 5091 Tsuma-as Drive\, Port Alberni\, British Columbia\, V9Y 8X9\, Canada
CATEGORIES:Youth
END:VEVENT
BEGIN:VEVENT
DTSTART;TZID=America/Vancouver:20250203T150000
DTEND;TZID=America/Vancouver:20250203T181500
DTSTAMP:20260424T180134
CREATED:20250117T183214Z
LAST-MODIFIED:20250117T183214Z
UID:10013160-1738594800-1738606500@tseshaht.com
SUMMARY:Youth Center Drop-in
DESCRIPTION:
URL:https://tseshaht.com/event/youth-center-drop-in/2025-02-03/
LOCATION:Tseshaht Youth Center\, 6666 Saiyatchapis\, Port Alberni\, BC\, V9Y8Y2
CATEGORIES:Youth
END:VEVENT
BEGIN:VEVENT
DTSTART;TZID=America/Vancouver:20250203T150000
DTEND;TZID=America/Vancouver:20250203T163000
DTSTAMP:20260424T180134
CREATED:20250117T184020Z
LAST-MODIFIED:20250117T184135Z
UID:10013751-1738594800-1738600200@tseshaht.com
SUMMARY:Youth Outing for Walk or Park
DESCRIPTION:
URL:https://tseshaht.com/event/outing-for-walk-or-park/2025-02-03/
CATEGORIES:Youth
END:VEVENT
BEGIN:VEVENT
DTSTART;TZID=America/Vancouver:20250131T150000
DTEND;TZID=America/Vancouver:20250131T181500
DTSTAMP:20260424T180134
CREATED:20250117T183214Z
LAST-MODIFIED:20250117T183214Z
UID:10013159-1738335600-1738347300@tseshaht.com
SUMMARY:Youth Center Drop-in
DESCRIPTION:
URL:https://tseshaht.com/event/youth-center-drop-in/2025-01-31/
LOCATION:Tseshaht Youth Center\, 6666 Saiyatchapis\, Port Alberni\, BC\, V9Y8Y2
CATEGORIES:Youth
END:VEVENT
BEGIN:VEVENT
DTSTART;TZID=America/Vancouver:20250130T150000
DTEND;TZID=America/Vancouver:20250130T181500
DTSTAMP:20260424T180134
CREATED:20250117T183321Z
LAST-MODIFIED:20250226T175858Z
UID:10013227-1738249200-1738260900@tseshaht.com
SUMMARY:Youth Center Sports Drop-in
DESCRIPTION:
URL:https://tseshaht.com/event/youth-center-sports-drop-in/2025-01-30/
LOCATION:Maht Mahs Gym\, 5091 Tsuma-as Drive\, Port Alberni\, British Columbia\, V9Y 8X9\, Canada
CATEGORIES:Youth
END:VEVENT
BEGIN:VEVENT
DTSTART;TZID=America/Vancouver:20250129T150000
DTEND;TZID=America/Vancouver:20250129T181500
DTSTAMP:20260424T180134
CREATED:20250117T183214Z
LAST-MODIFIED:20250117T183214Z
UID:10013158-1738162800-1738174500@tseshaht.com
SUMMARY:Youth Center Drop-in
DESCRIPTION:
URL:https://tseshaht.com/event/youth-center-drop-in/2025-01-29/
LOCATION:Tseshaht Youth Center\, 6666 Saiyatchapis\, Port Alberni\, BC\, V9Y8Y2
CATEGORIES:Youth
END:VEVENT
BEGIN:VEVENT
DTSTART;TZID=America/Vancouver:20250128T150000
DTEND;TZID=America/Vancouver:20250128T181500
DTSTAMP:20260424T180134
CREATED:20250117T183321Z
LAST-MODIFIED:20250226T175858Z
UID:10013226-1738076400-1738088100@tseshaht.com
SUMMARY:Youth Center Sports Drop-in
DESCRIPTION:
URL:https://tseshaht.com/event/youth-center-sports-drop-in/2025-01-28/
LOCATION:Maht Mahs Gym\, 5091 Tsuma-as Drive\, Port Alberni\, British Columbia\, V9Y 8X9\, Canada
CATEGORIES:Youth
END:VEVENT
BEGIN:VEVENT
DTSTART;TZID=America/Vancouver:20250127T150000
DTEND;TZID=America/Vancouver:20250127T181500
DTSTAMP:20260424T180134
CREATED:20250117T183214Z
LAST-MODIFIED:20250117T183214Z
UID:10013157-1737990000-1738001700@tseshaht.com
SUMMARY:Youth Center Drop-in
DESCRIPTION:
URL:https://tseshaht.com/event/youth-center-drop-in/2025-01-27/
LOCATION:Tseshaht Youth Center\, 6666 Saiyatchapis\, Port Alberni\, BC\, V9Y8Y2
CATEGORIES:Youth
END:VEVENT
BEGIN:VEVENT
DTSTART;TZID=America/Vancouver:20250127T150000
DTEND;TZID=America/Vancouver:20250127T163000
DTSTAMP:20260424T180134
CREATED:20250117T184020Z
LAST-MODIFIED:20250117T184135Z
UID:10013750-1737990000-1737995400@tseshaht.com
SUMMARY:Youth Outing for Walk or Park
DESCRIPTION:
URL:https://tseshaht.com/event/outing-for-walk-or-park/2025-01-27/
CATEGORIES:Youth
END:VEVENT
BEGIN:VEVENT
DTSTART;TZID=America/Vancouver:20250124T183000
DTEND;TZID=America/Vancouver:20250124T200000
DTSTAMP:20260424T180134
CREATED:20250117T183711Z
LAST-MODIFIED:20250117T183711Z
UID:10013748-1737743400-1737748800@tseshaht.com
SUMMARY:Youth Public Ice Skating
DESCRIPTION:
URL:https://tseshaht.com/event/youth-public-ice-skating/2025-01-24/
LOCATION:Alberni Valley Multiplex
CATEGORIES:Youth
END:VEVENT
BEGIN:VEVENT
DTSTART;TZID=America/Vancouver:20250124T150000
DTEND;TZID=America/Vancouver:20250124T181500
DTSTAMP:20260424T180134
CREATED:20250117T183214Z
LAST-MODIFIED:20250117T183214Z
UID:10013156-1737730800-1737742500@tseshaht.com
SUMMARY:Youth Center Drop-in
DESCRIPTION:
URL:https://tseshaht.com/event/youth-center-drop-in/2025-01-24/
LOCATION:Tseshaht Youth Center\, 6666 Saiyatchapis\, Port Alberni\, BC\, V9Y8Y2
CATEGORIES:Youth
END:VEVENT
BEGIN:VEVENT
DTSTART;TZID=America/Vancouver:20250123T150000
DTEND;TZID=America/Vancouver:20250123T181500
DTSTAMP:20260424T180134
CREATED:20250117T183321Z
LAST-MODIFIED:20250226T175858Z
UID:10013225-1737644400-1737656100@tseshaht.com
SUMMARY:Youth Center Sports Drop-in
DESCRIPTION:
URL:https://tseshaht.com/event/youth-center-sports-drop-in/2025-01-23/
LOCATION:Maht Mahs Gym\, 5091 Tsuma-as Drive\, Port Alberni\, British Columbia\, V9Y 8X9\, Canada
CATEGORIES:Youth
END:VEVENT
END:VCALENDAR