BEGIN:VCALENDAR
VERSION:2.0
PRODID:-//Tseshaht First Nation - ECPv6.15.20//NONSGML v1.0//EN
CALSCALE:GREGORIAN
METHOD:PUBLISH
X-WR-CALNAME:Tseshaht First Nation
X-ORIGINAL-URL:https://tseshaht.com
X-WR-CALDESC:Events for Tseshaht First Nation
REFRESH-INTERVAL;VALUE=DURATION:PT1H
X-Robots-Tag:noindex
X-PUBLISHED-TTL:PT1H
BEGIN:VTIMEZONE
TZID:America/Vancouver
BEGIN:DAYLIGHT
TZOFFSETFROM:-0800
TZOFFSETTO:-0700
TZNAME:PDT
DTSTART:20240310T100000
END:DAYLIGHT
BEGIN:STANDARD
TZOFFSETFROM:-0700
TZOFFSETTO:-0800
TZNAME:PST
DTSTART:20241103T090000
END:STANDARD
BEGIN:DAYLIGHT
TZOFFSETFROM:-0800
TZOFFSETTO:-0700
TZNAME:PDT
DTSTART:20250309T100000
END:DAYLIGHT
BEGIN:STANDARD
TZOFFSETFROM:-0700
TZOFFSETTO:-0800
TZNAME:PST
DTSTART:20251102T090000
END:STANDARD
BEGIN:DAYLIGHT
TZOFFSETFROM:-0800
TZOFFSETTO:-0700
TZNAME:PDT
DTSTART:20260308T100000
END:DAYLIGHT
BEGIN:STANDARD
TZOFFSETFROM:-0700
TZOFFSETTO:-0800
TZNAME:PST
DTSTART:20261101T090000
END:STANDARD
BEGIN:DAYLIGHT
TZOFFSETFROM:-0800
TZOFFSETTO:-0700
TZNAME:PDT
DTSTART:20270314T100000
END:DAYLIGHT
BEGIN:STANDARD
TZOFFSETFROM:-0700
TZOFFSETTO:-0800
TZNAME:PST
DTSTART:20271107T090000
END:STANDARD
END:VTIMEZONE
BEGIN:VEVENT
DTSTART;TZID=America/Vancouver:20260105T150000
DTEND;TZID=America/Vancouver:20260105T180000
DTSTAMP:20260422T073014
CREATED:20251114T180415Z
LAST-MODIFIED:20251114T180415Z
UID:10014313-1767625200-1767636000@tseshaht.com
SUMMARY:Youth Center (Ages 9-17)
DESCRIPTION:
URL:https://tseshaht.com/event/youth-center-ages-9-17/2026-01-05/
LOCATION:Somass Hall (Lower Level)\, 6200 Gallic Rd\, Canada
CATEGORIES:Youth
END:VEVENT
BEGIN:VEVENT
DTSTART;TZID=America/Vancouver:20251231T150000
DTEND;TZID=America/Vancouver:20251231T180000
DTSTAMP:20260422T073014
CREATED:20251114T180415Z
LAST-MODIFIED:20251114T180415Z
UID:10014312-1767193200-1767204000@tseshaht.com
SUMMARY:Youth Center (Ages 9-17)
DESCRIPTION:
URL:https://tseshaht.com/event/youth-center-ages-9-17/2025-12-31/
LOCATION:Somass Hall (Lower Level)\, 6200 Gallic Rd\, Canada
CATEGORIES:Youth
END:VEVENT
BEGIN:VEVENT
DTSTART;TZID=America/Vancouver:20251229T150000
DTEND;TZID=America/Vancouver:20251229T180000
DTSTAMP:20260422T073014
CREATED:20251114T180415Z
LAST-MODIFIED:20251114T180415Z
UID:10014311-1767020400-1767031200@tseshaht.com
SUMMARY:Youth Center (Ages 9-17)
DESCRIPTION:
URL:https://tseshaht.com/event/youth-center-ages-9-17/2025-12-29/
LOCATION:Somass Hall (Lower Level)\, 6200 Gallic Rd\, Canada
CATEGORIES:Youth
END:VEVENT
BEGIN:VEVENT
DTSTART;TZID=America/Vancouver:20251224T150000
DTEND;TZID=America/Vancouver:20251224T180000
DTSTAMP:20260422T073014
CREATED:20251114T180415Z
LAST-MODIFIED:20251114T180415Z
UID:10014310-1766588400-1766599200@tseshaht.com
SUMMARY:Youth Center (Ages 9-17)
DESCRIPTION:
URL:https://tseshaht.com/event/youth-center-ages-9-17/2025-12-24/
LOCATION:Somass Hall (Lower Level)\, 6200 Gallic Rd\, Canada
CATEGORIES:Youth
END:VEVENT
BEGIN:VEVENT
DTSTART;TZID=America/Vancouver:20251222T150000
DTEND;TZID=America/Vancouver:20251222T180000
DTSTAMP:20260422T073014
CREATED:20251114T180415Z
LAST-MODIFIED:20251114T180415Z
UID:10014309-1766415600-1766426400@tseshaht.com
SUMMARY:Youth Center (Ages 9-17)
DESCRIPTION:
URL:https://tseshaht.com/event/youth-center-ages-9-17/2025-12-22/
LOCATION:Somass Hall (Lower Level)\, 6200 Gallic Rd\, Canada
CATEGORIES:Youth
END:VEVENT
BEGIN:VEVENT
DTSTART;TZID=America/Vancouver:20251218T150000
DTEND;TZID=America/Vancouver:20251218T180000
DTSTAMP:20260422T073014
CREATED:20251028T210253Z
LAST-MODIFIED:20251028T210253Z
UID:10014282-1766070000-1766080800@tseshaht.com
SUMMARY:Youth - Gym Drop-in
DESCRIPTION:
URL:https://tseshaht.com/event/youth-gym-drop-in/2025-12-18/
LOCATION:Maht Mahs Gym\, 5091 Tsuma-as Drive\, Port Alberni\, British Columbia\, V9Y 8X9\, Canada
CATEGORIES:Fitness,Youth
END:VEVENT
BEGIN:VEVENT
DTSTART;TZID=America/Vancouver:20251217T150000
DTEND;TZID=America/Vancouver:20251217T180000
DTSTAMP:20260422T073014
CREATED:20251114T180415Z
LAST-MODIFIED:20251114T180415Z
UID:10014308-1765983600-1765994400@tseshaht.com
SUMMARY:Youth Center (Ages 9-17)
DESCRIPTION:
URL:https://tseshaht.com/event/youth-center-ages-9-17/2025-12-17/
LOCATION:Somass Hall (Lower Level)\, 6200 Gallic Rd\, Canada
CATEGORIES:Youth
END:VEVENT
BEGIN:VEVENT
DTSTART;TZID=America/Vancouver:20251217T150000
DTEND;TZID=America/Vancouver:20251217T163000
DTSTAMP:20260422T073014
CREATED:20251114T180303Z
LAST-MODIFIED:20251114T180303Z
UID:10014298-1765983600-1765989000@tseshaht.com
SUMMARY:Youth Center (Ages 6-8)
DESCRIPTION:
URL:https://tseshaht.com/event/youth-center-ages-6-8/2025-12-17/
LOCATION:Somass Hall (Lower Level)\, 6200 Gallic Rd\, Canada
CATEGORIES:Youth
END:VEVENT
BEGIN:VEVENT
DTSTART;TZID=America/Vancouver:20251216T150000
DTEND;TZID=America/Vancouver:20251216T180000
DTSTAMP:20260422T073014
CREATED:20251028T210253Z
LAST-MODIFIED:20251028T210253Z
UID:10014281-1765897200-1765908000@tseshaht.com
SUMMARY:Youth - Gym Drop-in
DESCRIPTION:
URL:https://tseshaht.com/event/youth-gym-drop-in/2025-12-16/
LOCATION:Maht Mahs Gym\, 5091 Tsuma-as Drive\, Port Alberni\, British Columbia\, V9Y 8X9\, Canada
CATEGORIES:Fitness,Youth
END:VEVENT
BEGIN:VEVENT
DTSTART;TZID=America/Vancouver:20251215T150000
DTEND;TZID=America/Vancouver:20251215T180000
DTSTAMP:20260422T073014
CREATED:20251114T180415Z
LAST-MODIFIED:20251114T180415Z
UID:10014307-1765810800-1765821600@tseshaht.com
SUMMARY:Youth Center (Ages 9-17)
DESCRIPTION:
URL:https://tseshaht.com/event/youth-center-ages-9-17/2025-12-15/
LOCATION:Somass Hall (Lower Level)\, 6200 Gallic Rd\, Canada
CATEGORIES:Youth
END:VEVENT
BEGIN:VEVENT
DTSTART;TZID=America/Vancouver:20251215T150000
DTEND;TZID=America/Vancouver:20251215T163000
DTSTAMP:20260422T073014
CREATED:20251114T180303Z
LAST-MODIFIED:20251114T180303Z
UID:10014297-1765810800-1765816200@tseshaht.com
SUMMARY:Youth Center (Ages 6-8)
DESCRIPTION:
URL:https://tseshaht.com/event/youth-center-ages-6-8/2025-12-15/
LOCATION:Somass Hall (Lower Level)\, 6200 Gallic Rd\, Canada
CATEGORIES:Youth
END:VEVENT
BEGIN:VEVENT
DTSTART;TZID=America/Vancouver:20251214T170000
DTEND;TZID=America/Vancouver:20251214T210000
DTSTAMP:20260422T073014
CREATED:20251028T210948Z
LAST-MODIFIED:20251028T210948Z
UID:10014284-1765731600-1765746000@tseshaht.com
SUMMARY:Community Christmas Dinner
DESCRIPTION:
URL:https://tseshaht.com/event/community-christmas-dinner/
LOCATION:Maht Mahs Gym\, 5091 Tsuma-as Drive\, Port Alberni\, British Columbia\, V9Y 8X9\, Canada
CATEGORIES:Community
END:VEVENT
BEGIN:VEVENT
DTSTART;TZID=America/Vancouver:20251212T130000
DTEND;TZID=America/Vancouver:20251212T170000
DTSTAMP:20260422T073014
CREATED:20251114T180603Z
LAST-MODIFIED:20251114T180603Z
UID:10014824-1765544400-1765558800@tseshaht.com
SUMMARY:Youth Center (Ages 6-17)
DESCRIPTION:
URL:https://tseshaht.com/event/youth-center-ages-6-17/2025-12-12/
LOCATION:Somass Hall (Lower Level)\, 6200 Gallic Rd\, Canada
CATEGORIES:Youth
END:VEVENT
BEGIN:VEVENT
DTSTART;TZID=America/Vancouver:20251211T150000
DTEND;TZID=America/Vancouver:20251211T180000
DTSTAMP:20260422T073014
CREATED:20251028T210253Z
LAST-MODIFIED:20251028T210253Z
UID:10014280-1765465200-1765476000@tseshaht.com
SUMMARY:Youth - Gym Drop-in
DESCRIPTION:
URL:https://tseshaht.com/event/youth-gym-drop-in/2025-12-11/
LOCATION:Maht Mahs Gym\, 5091 Tsuma-as Drive\, Port Alberni\, British Columbia\, V9Y 8X9\, Canada
CATEGORIES:Fitness,Youth
END:VEVENT
BEGIN:VEVENT
DTSTART;TZID=America/Vancouver:20251210T150000
DTEND;TZID=America/Vancouver:20251210T180000
DTSTAMP:20260422T073014
CREATED:20251114T180415Z
LAST-MODIFIED:20251114T180415Z
UID:10014306-1765378800-1765389600@tseshaht.com
SUMMARY:Youth Center (Ages 9-17)
DESCRIPTION:
URL:https://tseshaht.com/event/youth-center-ages-9-17/2025-12-10/
LOCATION:Somass Hall (Lower Level)\, 6200 Gallic Rd\, Canada
CATEGORIES:Youth
END:VEVENT
BEGIN:VEVENT
DTSTART;TZID=America/Vancouver:20251210T150000
DTEND;TZID=America/Vancouver:20251210T163000
DTSTAMP:20260422T073014
CREATED:20251114T180303Z
LAST-MODIFIED:20251114T180303Z
UID:10014296-1765378800-1765384200@tseshaht.com
SUMMARY:Youth Center (Ages 6-8)
DESCRIPTION:
URL:https://tseshaht.com/event/youth-center-ages-6-8/2025-12-10/
LOCATION:Somass Hall (Lower Level)\, 6200 Gallic Rd\, Canada
CATEGORIES:Youth
END:VEVENT
BEGIN:VEVENT
DTSTART;TZID=America/Vancouver:20251209T150000
DTEND;TZID=America/Vancouver:20251209T180000
DTSTAMP:20260422T073014
CREATED:20251028T210253Z
LAST-MODIFIED:20251028T210253Z
UID:10014279-1765292400-1765303200@tseshaht.com
SUMMARY:Youth - Gym Drop-in
DESCRIPTION:
URL:https://tseshaht.com/event/youth-gym-drop-in/2025-12-09/
LOCATION:Maht Mahs Gym\, 5091 Tsuma-as Drive\, Port Alberni\, British Columbia\, V9Y 8X9\, Canada
CATEGORIES:Fitness,Youth
END:VEVENT
BEGIN:VEVENT
DTSTART;TZID=America/Vancouver:20251208T150000
DTEND;TZID=America/Vancouver:20251208T180000
DTSTAMP:20260422T073014
CREATED:20251114T180415Z
LAST-MODIFIED:20251114T180415Z
UID:10014305-1765206000-1765216800@tseshaht.com
SUMMARY:Youth Center (Ages 9-17)
DESCRIPTION:
URL:https://tseshaht.com/event/youth-center-ages-9-17/2025-12-08/
LOCATION:Somass Hall (Lower Level)\, 6200 Gallic Rd\, Canada
CATEGORIES:Youth
END:VEVENT
BEGIN:VEVENT
DTSTART;TZID=America/Vancouver:20251208T150000
DTEND;TZID=America/Vancouver:20251208T163000
DTSTAMP:20260422T073014
CREATED:20251114T180303Z
LAST-MODIFIED:20251114T180303Z
UID:10014295-1765206000-1765211400@tseshaht.com
SUMMARY:Youth Center (Ages 6-8)
DESCRIPTION:
URL:https://tseshaht.com/event/youth-center-ages-6-8/2025-12-08/
LOCATION:Somass Hall (Lower Level)\, 6200 Gallic Rd\, Canada
CATEGORIES:Youth
END:VEVENT
BEGIN:VEVENT
DTSTART;TZID=America/Vancouver:20251205T130000
DTEND;TZID=America/Vancouver:20251205T170000
DTSTAMP:20260422T073014
CREATED:20251114T180603Z
LAST-MODIFIED:20251114T180603Z
UID:10014823-1764939600-1764954000@tseshaht.com
SUMMARY:Youth Center (Ages 6-17)
DESCRIPTION:
URL:https://tseshaht.com/event/youth-center-ages-6-17/2025-12-05/
LOCATION:Somass Hall (Lower Level)\, 6200 Gallic Rd\, Canada
CATEGORIES:Youth
END:VEVENT
BEGIN:VEVENT
DTSTART;TZID=America/Vancouver:20251204T150000
DTEND;TZID=America/Vancouver:20251204T180000
DTSTAMP:20260422T073014
CREATED:20251028T210253Z
LAST-MODIFIED:20251028T210253Z
UID:10014278-1764860400-1764871200@tseshaht.com
SUMMARY:Youth - Gym Drop-in
DESCRIPTION:
URL:https://tseshaht.com/event/youth-gym-drop-in/2025-12-04/
LOCATION:Maht Mahs Gym\, 5091 Tsuma-as Drive\, Port Alberni\, British Columbia\, V9Y 8X9\, Canada
CATEGORIES:Fitness,Youth
END:VEVENT
BEGIN:VEVENT
DTSTART;TZID=America/Vancouver:20251203T150000
DTEND;TZID=America/Vancouver:20251203T180000
DTSTAMP:20260422T073014
CREATED:20251114T180415Z
LAST-MODIFIED:20251114T180415Z
UID:10014304-1764774000-1764784800@tseshaht.com
SUMMARY:Youth Center (Ages 9-17)
DESCRIPTION:
URL:https://tseshaht.com/event/youth-center-ages-9-17/2025-12-03/
LOCATION:Somass Hall (Lower Level)\, 6200 Gallic Rd\, Canada
CATEGORIES:Youth
END:VEVENT
BEGIN:VEVENT
DTSTART;TZID=America/Vancouver:20251203T150000
DTEND;TZID=America/Vancouver:20251203T163000
DTSTAMP:20260422T073014
CREATED:20251114T180303Z
LAST-MODIFIED:20251114T180303Z
UID:10014294-1764774000-1764779400@tseshaht.com
SUMMARY:Youth Center (Ages 6-8)
DESCRIPTION:
URL:https://tseshaht.com/event/youth-center-ages-6-8/2025-12-03/
LOCATION:Somass Hall (Lower Level)\, 6200 Gallic Rd\, Canada
CATEGORIES:Youth
END:VEVENT
BEGIN:VEVENT
DTSTART;TZID=America/Vancouver:20251202T150000
DTEND;TZID=America/Vancouver:20251202T180000
DTSTAMP:20260422T073014
CREATED:20251028T210253Z
LAST-MODIFIED:20251028T210253Z
UID:10014277-1764687600-1764698400@tseshaht.com
SUMMARY:Youth - Gym Drop-in
DESCRIPTION:
URL:https://tseshaht.com/event/youth-gym-drop-in/2025-12-02/
LOCATION:Maht Mahs Gym\, 5091 Tsuma-as Drive\, Port Alberni\, British Columbia\, V9Y 8X9\, Canada
CATEGORIES:Fitness,Youth
END:VEVENT
BEGIN:VEVENT
DTSTART;TZID=America/Vancouver:20251201T150000
DTEND;TZID=America/Vancouver:20251201T180000
DTSTAMP:20260422T073014
CREATED:20251114T180415Z
LAST-MODIFIED:20251114T180415Z
UID:10014303-1764601200-1764612000@tseshaht.com
SUMMARY:Youth Center (Ages 9-17)
DESCRIPTION:
URL:https://tseshaht.com/event/youth-center-ages-9-17/2025-12-01/
LOCATION:Somass Hall (Lower Level)\, 6200 Gallic Rd\, Canada
CATEGORIES:Youth
END:VEVENT
BEGIN:VEVENT
DTSTART;TZID=America/Vancouver:20251201T150000
DTEND;TZID=America/Vancouver:20251201T163000
DTSTAMP:20260422T073014
CREATED:20251114T180303Z
LAST-MODIFIED:20251114T180303Z
UID:10014293-1764601200-1764606600@tseshaht.com
SUMMARY:Youth Center (Ages 6-8)
DESCRIPTION:
URL:https://tseshaht.com/event/youth-center-ages-6-8/2025-12-01/
LOCATION:Somass Hall (Lower Level)\, 6200 Gallic Rd\, Canada
CATEGORIES:Youth
END:VEVENT
BEGIN:VEVENT
DTSTART;TZID=America/Vancouver:20251128T130000
DTEND;TZID=America/Vancouver:20251128T170000
DTSTAMP:20260422T073014
CREATED:20251114T180603Z
LAST-MODIFIED:20251114T180603Z
UID:10014822-1764334800-1764349200@tseshaht.com
SUMMARY:Youth Center (Ages 6-17)
DESCRIPTION:
URL:https://tseshaht.com/event/youth-center-ages-6-17/2025-11-28/
LOCATION:Somass Hall (Lower Level)\, 6200 Gallic Rd\, Canada
CATEGORIES:Youth
END:VEVENT
BEGIN:VEVENT
DTSTART;TZID=America/Vancouver:20251127T150000
DTEND;TZID=America/Vancouver:20251127T180000
DTSTAMP:20260422T073014
CREATED:20251028T210253Z
LAST-MODIFIED:20251028T210253Z
UID:10014276-1764255600-1764266400@tseshaht.com
SUMMARY:Youth - Gym Drop-in
DESCRIPTION:
URL:https://tseshaht.com/event/youth-gym-drop-in/2025-11-27/
LOCATION:Maht Mahs Gym\, 5091 Tsuma-as Drive\, Port Alberni\, British Columbia\, V9Y 8X9\, Canada
CATEGORIES:Fitness,Youth
END:VEVENT
BEGIN:VEVENT
DTSTART;TZID=America/Vancouver:20251126T150000
DTEND;TZID=America/Vancouver:20251126T180000
DTSTAMP:20260422T073014
CREATED:20251114T180415Z
LAST-MODIFIED:20251114T180415Z
UID:10014302-1764169200-1764180000@tseshaht.com
SUMMARY:Youth Center (Ages 9-17)
DESCRIPTION:
URL:https://tseshaht.com/event/youth-center-ages-9-17/2025-11-26/
LOCATION:Somass Hall (Lower Level)\, 6200 Gallic Rd\, Canada
CATEGORIES:Youth
END:VEVENT
BEGIN:VEVENT
DTSTART;TZID=America/Vancouver:20251126T150000
DTEND;TZID=America/Vancouver:20251126T163000
DTSTAMP:20260422T073014
CREATED:20251114T180303Z
LAST-MODIFIED:20251114T180303Z
UID:10014292-1764169200-1764174600@tseshaht.com
SUMMARY:Youth Center (Ages 6-8)
DESCRIPTION:
URL:https://tseshaht.com/event/youth-center-ages-6-8/2025-11-26/
LOCATION:Somass Hall (Lower Level)\, 6200 Gallic Rd\, Canada
CATEGORIES:Youth
END:VEVENT
END:VCALENDAR