BEGIN:VCALENDAR
VERSION:2.0
PRODID:-//Tseshaht First Nation - ECPv6.15.20//NONSGML v1.0//EN
CALSCALE:GREGORIAN
METHOD:PUBLISH
X-ORIGINAL-URL:https://tseshaht.com
X-WR-CALDESC:Events for Tseshaht First Nation
REFRESH-INTERVAL;VALUE=DURATION:PT1H
X-Robots-Tag:noindex
X-PUBLISHED-TTL:PT1H
BEGIN:VTIMEZONE
TZID:America/Vancouver
BEGIN:DAYLIGHT
TZOFFSETFROM:-0800
TZOFFSETTO:-0700
TZNAME:PDT
DTSTART:20240310T100000
END:DAYLIGHT
BEGIN:STANDARD
TZOFFSETFROM:-0700
TZOFFSETTO:-0800
TZNAME:PST
DTSTART:20241103T090000
END:STANDARD
BEGIN:DAYLIGHT
TZOFFSETFROM:-0800
TZOFFSETTO:-0700
TZNAME:PDT
DTSTART:20250309T100000
END:DAYLIGHT
BEGIN:STANDARD
TZOFFSETFROM:-0700
TZOFFSETTO:-0800
TZNAME:PST
DTSTART:20251102T090000
END:STANDARD
BEGIN:DAYLIGHT
TZOFFSETFROM:-0800
TZOFFSETTO:-0700
TZNAME:PDT
DTSTART:20260308T100000
END:DAYLIGHT
BEGIN:STANDARD
TZOFFSETFROM:-0700
TZOFFSETTO:-0800
TZNAME:PST
DTSTART:20261101T090000
END:STANDARD
END:VTIMEZONE
BEGIN:VEVENT
DTSTART;TZID=America/Vancouver:20251117T150000
DTEND;TZID=America/Vancouver:20251117T163000
DTSTAMP:20260424T023316
CREATED:20251114T180303Z
LAST-MODIFIED:20251114T180303Z
UID:10014289-1763391600-1763397000@tseshaht.com
SUMMARY:Youth Center (Ages 6-8)
DESCRIPTION:
URL:https://tseshaht.com/event/youth-center-ages-6-8/2025-11-17/
LOCATION:Somass Hall (Lower Level)\, 6200 Gallic Rd\, Canada
CATEGORIES:Youth
END:VEVENT
BEGIN:VEVENT
DTSTART;TZID=America/Vancouver:20251113T150000
DTEND;TZID=America/Vancouver:20251113T180000
DTSTAMP:20260424T023316
CREATED:20251028T210253Z
LAST-MODIFIED:20251028T210253Z
UID:10014272-1763046000-1763056800@tseshaht.com
SUMMARY:Youth - Gym Drop-in
DESCRIPTION:
URL:https://tseshaht.com/event/youth-gym-drop-in/2025-11-13/
LOCATION:Maht Mahs Gym\, 5091 Tsuma-as Drive\, Port Alberni\, British Columbia\, V9Y 8X9\, Canada
CATEGORIES:Fitness,Youth
END:VEVENT
BEGIN:VEVENT
DTSTART;TZID=America/Vancouver:20251111T150000
DTEND;TZID=America/Vancouver:20251111T180000
DTSTAMP:20260424T023316
CREATED:20251028T210253Z
LAST-MODIFIED:20251028T210253Z
UID:10014271-1762873200-1762884000@tseshaht.com
SUMMARY:Youth - Gym Drop-in
DESCRIPTION:
URL:https://tseshaht.com/event/youth-gym-drop-in/2025-11-11/
LOCATION:Maht Mahs Gym\, 5091 Tsuma-as Drive\, Port Alberni\, British Columbia\, V9Y 8X9\, Canada
CATEGORIES:Fitness,Youth
END:VEVENT
BEGIN:VEVENT
DTSTART;TZID=America/Vancouver:20251106T150000
DTEND;TZID=America/Vancouver:20251106T180000
DTSTAMP:20260424T023316
CREATED:20251028T210253Z
LAST-MODIFIED:20251028T210253Z
UID:10014270-1762441200-1762452000@tseshaht.com
SUMMARY:Youth - Gym Drop-in
DESCRIPTION:
URL:https://tseshaht.com/event/youth-gym-drop-in/2025-11-06/
LOCATION:Maht Mahs Gym\, 5091 Tsuma-as Drive\, Port Alberni\, British Columbia\, V9Y 8X9\, Canada
CATEGORIES:Fitness,Youth
END:VEVENT
BEGIN:VEVENT
DTSTART;TZID=America/Vancouver:20251104T150000
DTEND;TZID=America/Vancouver:20251104T180000
DTSTAMP:20260424T023316
CREATED:20251028T210253Z
LAST-MODIFIED:20251028T210253Z
UID:10014269-1762268400-1762279200@tseshaht.com
SUMMARY:Youth - Gym Drop-in
DESCRIPTION:
URL:https://tseshaht.com/event/youth-gym-drop-in/2025-11-04/
LOCATION:Maht Mahs Gym\, 5091 Tsuma-as Drive\, Port Alberni\, British Columbia\, V9Y 8X9\, Canada
CATEGORIES:Fitness,Youth
END:VEVENT
BEGIN:VEVENT
DTSTART;TZID=America/Vancouver:20251031T180000
DTEND;TZID=America/Vancouver:20251031T210000
DTSTAMP:20260424T023316
CREATED:20251028T205241Z
LAST-MODIFIED:20251028T205241Z
UID:10014194-1761933600-1761944400@tseshaht.com
SUMMARY:Halloween Party & Fireworks
DESCRIPTION:
URL:https://tseshaht.com/event/halloween-party-fireworks/
LOCATION:Maht Mahs Gym\, 5091 Tsuma-as Drive\, Port Alberni\, British Columbia\, V9Y 8X9\, Canada
CATEGORIES:Community,Elders,Youth
END:VEVENT
BEGIN:VEVENT
DTSTART;TZID=America/Vancouver:20251030T150000
DTEND;TZID=America/Vancouver:20251030T180000
DTSTAMP:20260424T023316
CREATED:20251028T210253Z
LAST-MODIFIED:20251028T210253Z
UID:10014268-1761836400-1761847200@tseshaht.com
SUMMARY:Youth - Gym Drop-in
DESCRIPTION:
URL:https://tseshaht.com/event/youth-gym-drop-in/2025-10-30/
LOCATION:Maht Mahs Gym\, 5091 Tsuma-as Drive\, Port Alberni\, British Columbia\, V9Y 8X9\, Canada
CATEGORIES:Fitness,Youth
END:VEVENT
BEGIN:VEVENT
DTSTART;TZID=America/Vancouver:20251028T150000
DTEND;TZID=America/Vancouver:20251028T180000
DTSTAMP:20260424T023316
CREATED:20251028T210253Z
LAST-MODIFIED:20251028T210253Z
UID:10014267-1761663600-1761674400@tseshaht.com
SUMMARY:Youth - Gym Drop-in
DESCRIPTION:
URL:https://tseshaht.com/event/youth-gym-drop-in/2025-10-28/
LOCATION:Maht Mahs Gym\, 5091 Tsuma-as Drive\, Port Alberni\, British Columbia\, V9Y 8X9\, Canada
CATEGORIES:Fitness,Youth
END:VEVENT
BEGIN:VEVENT
DTSTART;TZID=America/Vancouver:20251023T150000
DTEND;TZID=America/Vancouver:20251023T180000
DTSTAMP:20260424T023316
CREATED:20251028T210253Z
LAST-MODIFIED:20251028T210253Z
UID:10014266-1761231600-1761242400@tseshaht.com
SUMMARY:Youth - Gym Drop-in
DESCRIPTION:
URL:https://tseshaht.com/event/youth-gym-drop-in/2025-10-23/
LOCATION:Maht Mahs Gym\, 5091 Tsuma-as Drive\, Port Alberni\, British Columbia\, V9Y 8X9\, Canada
CATEGORIES:Fitness,Youth
END:VEVENT
BEGIN:VEVENT
DTSTART;TZID=America/Vancouver:20251021T150000
DTEND;TZID=America/Vancouver:20251021T180000
DTSTAMP:20260424T023316
CREATED:20251028T210253Z
LAST-MODIFIED:20251028T210253Z
UID:10014265-1761058800-1761069600@tseshaht.com
SUMMARY:Youth - Gym Drop-in
DESCRIPTION:
URL:https://tseshaht.com/event/youth-gym-drop-in/2025-10-21/
LOCATION:Maht Mahs Gym\, 5091 Tsuma-as Drive\, Port Alberni\, British Columbia\, V9Y 8X9\, Canada
CATEGORIES:Fitness,Youth
END:VEVENT
BEGIN:VEVENT
DTSTART;TZID=America/Vancouver:20251016T150000
DTEND;TZID=America/Vancouver:20251016T180000
DTSTAMP:20260424T023316
CREATED:20251028T210253Z
LAST-MODIFIED:20251028T210253Z
UID:10014264-1760626800-1760637600@tseshaht.com
SUMMARY:Youth - Gym Drop-in
DESCRIPTION:
URL:https://tseshaht.com/event/youth-gym-drop-in/2025-10-16/
LOCATION:Maht Mahs Gym\, 5091 Tsuma-as Drive\, Port Alberni\, British Columbia\, V9Y 8X9\, Canada
CATEGORIES:Fitness,Youth
END:VEVENT
BEGIN:VEVENT
DTSTART;TZID=America/Vancouver:20251014T150000
DTEND;TZID=America/Vancouver:20251014T180000
DTSTAMP:20260424T023316
CREATED:20251028T210253Z
LAST-MODIFIED:20251028T210253Z
UID:10014263-1760454000-1760464800@tseshaht.com
SUMMARY:Youth - Gym Drop-in
DESCRIPTION:
URL:https://tseshaht.com/event/youth-gym-drop-in/2025-10-14/
LOCATION:Maht Mahs Gym\, 5091 Tsuma-as Drive\, Port Alberni\, British Columbia\, V9Y 8X9\, Canada
CATEGORIES:Fitness,Youth
END:VEVENT
BEGIN:VEVENT
DTSTART;TZID=America/Vancouver:20251009T150000
DTEND;TZID=America/Vancouver:20251009T180000
DTSTAMP:20260424T023316
CREATED:20251028T210253Z
LAST-MODIFIED:20251028T210253Z
UID:10014262-1760022000-1760032800@tseshaht.com
SUMMARY:Youth - Gym Drop-in
DESCRIPTION:
URL:https://tseshaht.com/event/youth-gym-drop-in/2025-10-09/
LOCATION:Maht Mahs Gym\, 5091 Tsuma-as Drive\, Port Alberni\, British Columbia\, V9Y 8X9\, Canada
CATEGORIES:Fitness,Youth
END:VEVENT
BEGIN:VEVENT
DTSTART;TZID=America/Vancouver:20251007T150000
DTEND;TZID=America/Vancouver:20251007T180000
DTSTAMP:20260424T023316
CREATED:20251028T210253Z
LAST-MODIFIED:20251028T210253Z
UID:10014261-1759849200-1759860000@tseshaht.com
SUMMARY:Youth - Gym Drop-in
DESCRIPTION:
URL:https://tseshaht.com/event/youth-gym-drop-in/2025-10-07/
LOCATION:Maht Mahs Gym\, 5091 Tsuma-as Drive\, Port Alberni\, British Columbia\, V9Y 8X9\, Canada
CATEGORIES:Fitness,Youth
END:VEVENT
BEGIN:VEVENT
DTSTART;TZID=America/Vancouver:20251002T150000
DTEND;TZID=America/Vancouver:20251002T180000
DTSTAMP:20260424T023316
CREATED:20251028T210253Z
LAST-MODIFIED:20251028T210253Z
UID:10014260-1759417200-1759428000@tseshaht.com
SUMMARY:Youth - Gym Drop-in
DESCRIPTION:
URL:https://tseshaht.com/event/youth-gym-drop-in/2025-10-02/
LOCATION:Maht Mahs Gym\, 5091 Tsuma-as Drive\, Port Alberni\, British Columbia\, V9Y 8X9\, Canada
CATEGORIES:Fitness,Youth
END:VEVENT
BEGIN:VEVENT
DTSTART;TZID=America/Vancouver:20250630T150000
DTEND;TZID=America/Vancouver:20250630T181500
DTSTAMP:20260424T023316
CREATED:20250117T183214Z
LAST-MODIFIED:20250117T183214Z
UID:10013223-1751295600-1751307300@tseshaht.com
SUMMARY:Youth Center Drop-in
DESCRIPTION:
URL:https://tseshaht.com/event/youth-center-drop-in/2025-06-30/
LOCATION:Tseshaht Youth Center\, 6666 Saiyatchapis\, Port Alberni\, BC\, V9Y8Y2
CATEGORIES:Youth
END:VEVENT
BEGIN:VEVENT
DTSTART;TZID=America/Vancouver:20250627T150000
DTEND;TZID=America/Vancouver:20250627T181500
DTSTAMP:20260424T023316
CREATED:20250117T183214Z
LAST-MODIFIED:20250117T183214Z
UID:10013222-1751036400-1751048100@tseshaht.com
SUMMARY:Youth Center Drop-in
DESCRIPTION:
URL:https://tseshaht.com/event/youth-center-drop-in/2025-06-27/
LOCATION:Tseshaht Youth Center\, 6666 Saiyatchapis\, Port Alberni\, BC\, V9Y8Y2
CATEGORIES:Youth
END:VEVENT
BEGIN:VEVENT
DTSTART;TZID=America/Vancouver:20250626T150000
DTEND;TZID=America/Vancouver:20250626T181500
DTSTAMP:20260424T023316
CREATED:20250117T183321Z
LAST-MODIFIED:20250226T175858Z
UID:10013269-1750950000-1750961700@tseshaht.com
SUMMARY:Youth Center Sports Drop-in
DESCRIPTION:
URL:https://tseshaht.com/event/youth-center-sports-drop-in/2025-06-26/
LOCATION:Maht Mahs Gym\, 5091 Tsuma-as Drive\, Port Alberni\, British Columbia\, V9Y 8X9\, Canada
CATEGORIES:Youth
END:VEVENT
BEGIN:VEVENT
DTSTART;TZID=America/Vancouver:20250625T150000
DTEND;TZID=America/Vancouver:20250625T181500
DTSTAMP:20260424T023316
CREATED:20250117T183214Z
LAST-MODIFIED:20250117T183214Z
UID:10013221-1750863600-1750875300@tseshaht.com
SUMMARY:Youth Center Drop-in
DESCRIPTION:
URL:https://tseshaht.com/event/youth-center-drop-in/2025-06-25/
LOCATION:Tseshaht Youth Center\, 6666 Saiyatchapis\, Port Alberni\, BC\, V9Y8Y2
CATEGORIES:Youth
END:VEVENT
BEGIN:VEVENT
DTSTART;TZID=America/Vancouver:20250624T150000
DTEND;TZID=America/Vancouver:20250624T181500
DTSTAMP:20260424T023316
CREATED:20250117T183321Z
LAST-MODIFIED:20250226T175858Z
UID:10013268-1750777200-1750788900@tseshaht.com
SUMMARY:Youth Center Sports Drop-in
DESCRIPTION:
URL:https://tseshaht.com/event/youth-center-sports-drop-in/2025-06-24/
LOCATION:Maht Mahs Gym\, 5091 Tsuma-as Drive\, Port Alberni\, British Columbia\, V9Y 8X9\, Canada
CATEGORIES:Youth
END:VEVENT
BEGIN:VEVENT
DTSTART;TZID=America/Vancouver:20250623T150000
DTEND;TZID=America/Vancouver:20250623T181500
DTSTAMP:20260424T023316
CREATED:20250117T183214Z
LAST-MODIFIED:20250117T183214Z
UID:10013220-1750690800-1750702500@tseshaht.com
SUMMARY:Youth Center Drop-in
DESCRIPTION:
URL:https://tseshaht.com/event/youth-center-drop-in/2025-06-23/
LOCATION:Tseshaht Youth Center\, 6666 Saiyatchapis\, Port Alberni\, BC\, V9Y8Y2
CATEGORIES:Youth
END:VEVENT
BEGIN:VEVENT
DTSTART;TZID=America/Vancouver:20250620T150000
DTEND;TZID=America/Vancouver:20250620T181500
DTSTAMP:20260424T023316
CREATED:20250117T183214Z
LAST-MODIFIED:20250117T183214Z
UID:10013219-1750431600-1750443300@tseshaht.com
SUMMARY:Youth Center Drop-in
DESCRIPTION:
URL:https://tseshaht.com/event/youth-center-drop-in/2025-06-20/
LOCATION:Tseshaht Youth Center\, 6666 Saiyatchapis\, Port Alberni\, BC\, V9Y8Y2
CATEGORIES:Youth
END:VEVENT
BEGIN:VEVENT
DTSTART;TZID=America/Vancouver:20250619T150000
DTEND;TZID=America/Vancouver:20250619T181500
DTSTAMP:20260424T023316
CREATED:20250117T183321Z
LAST-MODIFIED:20250226T175858Z
UID:10013267-1750345200-1750356900@tseshaht.com
SUMMARY:Youth Center Sports Drop-in
DESCRIPTION:
URL:https://tseshaht.com/event/youth-center-sports-drop-in/2025-06-19/
LOCATION:Maht Mahs Gym\, 5091 Tsuma-as Drive\, Port Alberni\, British Columbia\, V9Y 8X9\, Canada
CATEGORIES:Youth
END:VEVENT
BEGIN:VEVENT
DTSTART;TZID=America/Vancouver:20250618T150000
DTEND;TZID=America/Vancouver:20250618T181500
DTSTAMP:20260424T023316
CREATED:20250117T183214Z
LAST-MODIFIED:20250117T183214Z
UID:10013218-1750258800-1750270500@tseshaht.com
SUMMARY:Youth Center Drop-in
DESCRIPTION:
URL:https://tseshaht.com/event/youth-center-drop-in/2025-06-18/
LOCATION:Tseshaht Youth Center\, 6666 Saiyatchapis\, Port Alberni\, BC\, V9Y8Y2
CATEGORIES:Youth
END:VEVENT
BEGIN:VEVENT
DTSTART;TZID=America/Vancouver:20250617T150000
DTEND;TZID=America/Vancouver:20250617T181500
DTSTAMP:20260424T023316
CREATED:20250117T183321Z
LAST-MODIFIED:20250226T175858Z
UID:10013266-1750172400-1750184100@tseshaht.com
SUMMARY:Youth Center Sports Drop-in
DESCRIPTION:
URL:https://tseshaht.com/event/youth-center-sports-drop-in/2025-06-17/
LOCATION:Maht Mahs Gym\, 5091 Tsuma-as Drive\, Port Alberni\, British Columbia\, V9Y 8X9\, Canada
CATEGORIES:Youth
END:VEVENT
BEGIN:VEVENT
DTSTART;TZID=America/Vancouver:20250616T150000
DTEND;TZID=America/Vancouver:20250616T181500
DTSTAMP:20260424T023316
CREATED:20250117T183214Z
LAST-MODIFIED:20250117T183214Z
UID:10013217-1750086000-1750097700@tseshaht.com
SUMMARY:Youth Center Drop-in
DESCRIPTION:
URL:https://tseshaht.com/event/youth-center-drop-in/2025-06-16/
LOCATION:Tseshaht Youth Center\, 6666 Saiyatchapis\, Port Alberni\, BC\, V9Y8Y2
CATEGORIES:Youth
END:VEVENT
BEGIN:VEVENT
DTSTART;TZID=America/Vancouver:20250613T150000
DTEND;TZID=America/Vancouver:20250613T181500
DTSTAMP:20260424T023316
CREATED:20250117T183214Z
LAST-MODIFIED:20250117T183214Z
UID:10013216-1749826800-1749838500@tseshaht.com
SUMMARY:Youth Center Drop-in
DESCRIPTION:
URL:https://tseshaht.com/event/youth-center-drop-in/2025-06-13/
LOCATION:Tseshaht Youth Center\, 6666 Saiyatchapis\, Port Alberni\, BC\, V9Y8Y2
CATEGORIES:Youth
END:VEVENT
BEGIN:VEVENT
DTSTART;TZID=America/Vancouver:20250612T150000
DTEND;TZID=America/Vancouver:20250612T181500
DTSTAMP:20260424T023316
CREATED:20250117T183321Z
LAST-MODIFIED:20250226T175858Z
UID:10013265-1749740400-1749752100@tseshaht.com
SUMMARY:Youth Center Sports Drop-in
DESCRIPTION:
URL:https://tseshaht.com/event/youth-center-sports-drop-in/2025-06-12/
LOCATION:Maht Mahs Gym\, 5091 Tsuma-as Drive\, Port Alberni\, British Columbia\, V9Y 8X9\, Canada
CATEGORIES:Youth
END:VEVENT
BEGIN:VEVENT
DTSTART;TZID=America/Vancouver:20250611T150000
DTEND;TZID=America/Vancouver:20250611T181500
DTSTAMP:20260424T023316
CREATED:20250117T183214Z
LAST-MODIFIED:20250117T183214Z
UID:10013215-1749654000-1749665700@tseshaht.com
SUMMARY:Youth Center Drop-in
DESCRIPTION:
URL:https://tseshaht.com/event/youth-center-drop-in/2025-06-11/
LOCATION:Tseshaht Youth Center\, 6666 Saiyatchapis\, Port Alberni\, BC\, V9Y8Y2
CATEGORIES:Youth
END:VEVENT
BEGIN:VEVENT
DTSTART;TZID=America/Vancouver:20250610T150000
DTEND;TZID=America/Vancouver:20250610T181500
DTSTAMP:20260424T023316
CREATED:20250117T183321Z
LAST-MODIFIED:20250226T175858Z
UID:10013264-1749567600-1749579300@tseshaht.com
SUMMARY:Youth Center Sports Drop-in
DESCRIPTION:
URL:https://tseshaht.com/event/youth-center-sports-drop-in/2025-06-10/
LOCATION:Maht Mahs Gym\, 5091 Tsuma-as Drive\, Port Alberni\, British Columbia\, V9Y 8X9\, Canada
CATEGORIES:Youth
END:VEVENT
END:VCALENDAR