BEGIN:VCALENDAR
VERSION:2.0
PRODID:-//Tseshaht First Nation - ECPv6.15.20//NONSGML v1.0//EN
CALSCALE:GREGORIAN
METHOD:PUBLISH
X-WR-CALNAME:Tseshaht First Nation
X-ORIGINAL-URL:https://tseshaht.com
X-WR-CALDESC:Events for Tseshaht First Nation
REFRESH-INTERVAL;VALUE=DURATION:PT1H
X-Robots-Tag:noindex
X-PUBLISHED-TTL:PT1H
BEGIN:VTIMEZONE
TZID:America/Vancouver
BEGIN:DAYLIGHT
TZOFFSETFROM:-0800
TZOFFSETTO:-0700
TZNAME:PDT
DTSTART:20210314T100000
END:DAYLIGHT
BEGIN:STANDARD
TZOFFSETFROM:-0700
TZOFFSETTO:-0800
TZNAME:PST
DTSTART:20211107T090000
END:STANDARD
BEGIN:DAYLIGHT
TZOFFSETFROM:-0800
TZOFFSETTO:-0700
TZNAME:PDT
DTSTART:20220313T100000
END:DAYLIGHT
BEGIN:STANDARD
TZOFFSETFROM:-0700
TZOFFSETTO:-0800
TZNAME:PST
DTSTART:20221106T090000
END:STANDARD
BEGIN:DAYLIGHT
TZOFFSETFROM:-0800
TZOFFSETTO:-0700
TZNAME:PDT
DTSTART:20230312T100000
END:DAYLIGHT
BEGIN:STANDARD
TZOFFSETFROM:-0700
TZOFFSETTO:-0800
TZNAME:PST
DTSTART:20231105T090000
END:STANDARD
BEGIN:DAYLIGHT
TZOFFSETFROM:-0800
TZOFFSETTO:-0700
TZNAME:PDT
DTSTART:20240310T100000
END:DAYLIGHT
BEGIN:STANDARD
TZOFFSETFROM:-0700
TZOFFSETTO:-0800
TZNAME:PST
DTSTART:20241103T090000
END:STANDARD
END:VTIMEZONE
BEGIN:VEVENT
DTSTART;TZID=America/Vancouver:20230403T183000
DTEND;TZID=America/Vancouver:20230403T203000
DTSTAMP:20260424T031349
CREATED:20230202T163602Z
LAST-MODIFIED:20230406T151917Z
UID:10009475-1680546600-1680553800@tseshaht.com
SUMMARY:House of Regalia - Mondays
DESCRIPTION:
URL:https://tseshaht.com/event/house-of-regalia-mondays/2023-04-03/
LOCATION:House of Regalia
CATEGORIES:Community,Craft Night
END:VEVENT
BEGIN:VEVENT
DTSTART;TZID=America/Vancouver:20230403T183000
DTEND;TZID=America/Vancouver:20230403T203000
DTSTAMP:20260424T031349
CREATED:20230202T163441Z
LAST-MODIFIED:20230406T151842Z
UID:10009458-1680546600-1680553800@tseshaht.com
SUMMARY:Men's Support Group - Mondays
DESCRIPTION:
URL:https://tseshaht.com/event/mens-support-group-mondays/2023-04-03/
LOCATION:Tseshaht Family Center
CATEGORIES:Community
END:VEVENT
BEGIN:VEVENT
DTSTART;TZID=America/Vancouver:20230403T100000
DTEND;TZID=America/Vancouver:20230403T120000
DTSTAMP:20260424T031349
CREATED:20230331T171010Z
LAST-MODIFIED:20230406T151659Z
UID:10009842-1680516000-1680523200@tseshaht.com
SUMMARY:Drop-in Counselling
DESCRIPTION:
URL:https://tseshaht.com/event/drop-in-counselling/2023-04-03/
LOCATION:Tseshaht Family Center
CATEGORIES:Community
END:VEVENT
BEGIN:VEVENT
DTSTART;TZID=America/Vancouver:20230327T183000
DTEND;TZID=America/Vancouver:20230327T203000
DTSTAMP:20260424T031349
CREATED:20230202T163602Z
LAST-MODIFIED:20230406T151917Z
UID:10009474-1679941800-1679949000@tseshaht.com
SUMMARY:House of Regalia - Mondays
DESCRIPTION:
URL:https://tseshaht.com/event/house-of-regalia-mondays/2023-03-27/
LOCATION:House of Regalia
CATEGORIES:Community,Craft Night
END:VEVENT
BEGIN:VEVENT
DTSTART;TZID=America/Vancouver:20230327T183000
DTEND;TZID=America/Vancouver:20230327T203000
DTSTAMP:20260424T031349
CREATED:20230202T163441Z
LAST-MODIFIED:20230406T151842Z
UID:10009457-1679941800-1679949000@tseshaht.com
SUMMARY:Men's Support Group - Mondays
DESCRIPTION:
URL:https://tseshaht.com/event/mens-support-group-mondays/2023-03-27/
LOCATION:Tseshaht Family Center
CATEGORIES:Community
END:VEVENT
BEGIN:VEVENT
DTSTART;TZID=America/Vancouver:20230320T183000
DTEND;TZID=America/Vancouver:20230320T203000
DTSTAMP:20260424T031349
CREATED:20230202T163602Z
LAST-MODIFIED:20230406T151917Z
UID:10009473-1679337000-1679344200@tseshaht.com
SUMMARY:House of Regalia - Mondays
DESCRIPTION:
URL:https://tseshaht.com/event/house-of-regalia-mondays/2023-03-20/
LOCATION:House of Regalia
CATEGORIES:Community,Craft Night
END:VEVENT
BEGIN:VEVENT
DTSTART;TZID=America/Vancouver:20230320T183000
DTEND;TZID=America/Vancouver:20230320T203000
DTSTAMP:20260424T031349
CREATED:20230202T163441Z
LAST-MODIFIED:20230406T151842Z
UID:10009456-1679337000-1679344200@tseshaht.com
SUMMARY:Men's Support Group - Mondays
DESCRIPTION:
URL:https://tseshaht.com/event/mens-support-group-mondays/2023-03-20/
LOCATION:Tseshaht Family Center
CATEGORIES:Community
END:VEVENT
BEGIN:VEVENT
DTSTART;TZID=America/Vancouver:20230313T183000
DTEND;TZID=America/Vancouver:20230313T203000
DTSTAMP:20260424T031349
CREATED:20230202T163602Z
LAST-MODIFIED:20230406T151917Z
UID:10009472-1678732200-1678739400@tseshaht.com
SUMMARY:House of Regalia - Mondays
DESCRIPTION:
URL:https://tseshaht.com/event/house-of-regalia-mondays/2023-03-13/
LOCATION:House of Regalia
CATEGORIES:Community,Craft Night
END:VEVENT
BEGIN:VEVENT
DTSTART;TZID=America/Vancouver:20230313T183000
DTEND;TZID=America/Vancouver:20230313T203000
DTSTAMP:20260424T031349
CREATED:20230202T163441Z
LAST-MODIFIED:20230406T151842Z
UID:10009455-1678732200-1678739400@tseshaht.com
SUMMARY:Men's Support Group - Mondays
DESCRIPTION:
URL:https://tseshaht.com/event/mens-support-group-mondays/2023-03-13/
LOCATION:Tseshaht Family Center
CATEGORIES:Community
END:VEVENT
BEGIN:VEVENT
DTSTART;TZID=America/Vancouver:20230311T190000
DTEND;TZID=America/Vancouver:20230311T210000
DTSTAMP:20260424T031349
CREATED:20230124T001204Z
LAST-MODIFIED:20230126T163818Z
UID:10009446-1678561200-1678568400@tseshaht.com
SUMMARY:Tseshaht Youth Wellness
DESCRIPTION:
URL:https://tseshaht.com/event/tseshaht-youth-wellness/2023-03-11/2/
LOCATION:Maht Mahs Gym\, 5091 Tsuma-as Drive\, Port Alberni\, British Columbia\, V9Y 8X9\, Canada
CATEGORIES:Youth
END:VEVENT
BEGIN:VEVENT
DTSTART;TZID=America/Vancouver:20230311T090000
DTEND;TZID=America/Vancouver:20230311T173000
DTSTAMP:20260424T031349
CREATED:20230124T001204Z
LAST-MODIFIED:20230126T163818Z
UID:10009445-1678525200-1678555800@tseshaht.com
SUMMARY:Tseshaht Youth Wellness
DESCRIPTION:
URL:https://tseshaht.com/event/tseshaht-youth-wellness/2023-03-11/1/
LOCATION:Maht Mahs Gym\, 5091 Tsuma-as Drive\, Port Alberni\, British Columbia\, V9Y 8X9\, Canada
CATEGORIES:Youth
END:VEVENT
BEGIN:VEVENT
DTSTART;TZID=America/Vancouver:20230310T170000
DTEND;TZID=America/Vancouver:20230310T203000
DTSTAMP:20260424T031349
CREATED:20230124T001204Z
LAST-MODIFIED:20230126T163818Z
UID:10009444-1678467600-1678480200@tseshaht.com
SUMMARY:Tseshaht Youth Wellness
DESCRIPTION:
URL:https://tseshaht.com/event/tseshaht-youth-wellness/2023-03-10/
LOCATION:Maht Mahs Gym\, 5091 Tsuma-as Drive\, Port Alberni\, British Columbia\, V9Y 8X9\, Canada
CATEGORIES:Youth
END:VEVENT
BEGIN:VEVENT
DTSTART;TZID=America/Vancouver:20230306T183000
DTEND;TZID=America/Vancouver:20230306T203000
DTSTAMP:20260424T031349
CREATED:20230202T163602Z
LAST-MODIFIED:20230406T151917Z
UID:10009471-1678127400-1678134600@tseshaht.com
SUMMARY:House of Regalia - Mondays
DESCRIPTION:
URL:https://tseshaht.com/event/house-of-regalia-mondays/2023-03-06/
LOCATION:House of Regalia
CATEGORIES:Community,Craft Night
END:VEVENT
BEGIN:VEVENT
DTSTART;TZID=America/Vancouver:20230306T183000
DTEND;TZID=America/Vancouver:20230306T203000
DTSTAMP:20260424T031349
CREATED:20230202T163441Z
LAST-MODIFIED:20230406T151842Z
UID:10009454-1678127400-1678134600@tseshaht.com
SUMMARY:Men's Support Group - Mondays
DESCRIPTION:
URL:https://tseshaht.com/event/mens-support-group-mondays/2023-03-06/
LOCATION:Tseshaht Family Center
CATEGORIES:Community
END:VEVENT
BEGIN:VEVENT
DTSTART;TZID=America/Vancouver:20230301T180000
DTEND;TZID=America/Vancouver:20230301T210000
DTSTAMP:20260424T031349
CREATED:20230201T005929Z
LAST-MODIFIED:20230201T010022Z
UID:10009449-1677693600-1677704400@tseshaht.com
SUMMARY:Community Meeting - 2023-03-01
DESCRIPTION:
URL:https://tseshaht.com/event/community-meeting-2023-03-01/
LOCATION:Great Room
CATEGORIES:Community
END:VEVENT
BEGIN:VEVENT
DTSTART;TZID=America/Vancouver:20230227T183000
DTEND;TZID=America/Vancouver:20230227T203000
DTSTAMP:20260424T031349
CREATED:20230202T163602Z
LAST-MODIFIED:20230406T151917Z
UID:10009470-1677522600-1677529800@tseshaht.com
SUMMARY:House of Regalia - Mondays
DESCRIPTION:
URL:https://tseshaht.com/event/house-of-regalia-mondays/2023-02-27/
LOCATION:House of Regalia
CATEGORIES:Community,Craft Night
END:VEVENT
BEGIN:VEVENT
DTSTART;TZID=America/Vancouver:20230227T183000
DTEND;TZID=America/Vancouver:20230227T203000
DTSTAMP:20260424T031349
CREATED:20230202T163441Z
LAST-MODIFIED:20230406T151842Z
UID:10009453-1677522600-1677529800@tseshaht.com
SUMMARY:Men's Support Group - Mondays
DESCRIPTION:
URL:https://tseshaht.com/event/mens-support-group-mondays/2023-02-27/
LOCATION:Tseshaht Family Center
CATEGORIES:Community
END:VEVENT
BEGIN:VEVENT
DTSTART;TZID=America/Vancouver:20230220T183000
DTEND;TZID=America/Vancouver:20230220T203000
DTSTAMP:20260424T031349
CREATED:20230202T163602Z
LAST-MODIFIED:20230406T151917Z
UID:10009469-1676917800-1676925000@tseshaht.com
SUMMARY:House of Regalia - Mondays
DESCRIPTION:
URL:https://tseshaht.com/event/house-of-regalia-mondays/2023-02-20/
LOCATION:House of Regalia
CATEGORIES:Community,Craft Night
END:VEVENT
BEGIN:VEVENT
DTSTART;TZID=America/Vancouver:20230220T183000
DTEND;TZID=America/Vancouver:20230220T203000
DTSTAMP:20260424T031349
CREATED:20230202T163441Z
LAST-MODIFIED:20230406T151842Z
UID:10009452-1676917800-1676925000@tseshaht.com
SUMMARY:Men's Support Group - Mondays
DESCRIPTION:
URL:https://tseshaht.com/event/mens-support-group-mondays/2023-02-20/
LOCATION:Tseshaht Family Center
CATEGORIES:Community
END:VEVENT
BEGIN:VEVENT
DTSTART;TZID=America/Vancouver:20230215T180000
DTEND;TZID=America/Vancouver:20230215T210000
DTSTAMP:20260424T031349
CREATED:20230124T000832Z
LAST-MODIFIED:20230201T010135Z
UID:10009440-1676484000-1676494800@tseshaht.com
SUMMARY:Community Meeting - POSTPONED - 2023-02-15
DESCRIPTION:
URL:https://tseshaht.com/event/community-meeting-2023-02-15/
LOCATION:Great Room & Zoom
CATEGORIES:Community
END:VEVENT
BEGIN:VEVENT
DTSTART;TZID=America/Vancouver:20230213T183000
DTEND;TZID=America/Vancouver:20230213T203000
DTSTAMP:20260424T031349
CREATED:20230202T163602Z
LAST-MODIFIED:20230406T151917Z
UID:10009468-1676313000-1676320200@tseshaht.com
SUMMARY:House of Regalia - Mondays
DESCRIPTION:
URL:https://tseshaht.com/event/house-of-regalia-mondays/2023-02-13/
LOCATION:House of Regalia
CATEGORIES:Community,Craft Night
END:VEVENT
BEGIN:VEVENT
DTSTART;TZID=America/Vancouver:20230213T183000
DTEND;TZID=America/Vancouver:20230213T203000
DTSTAMP:20260424T031349
CREATED:20230202T163441Z
LAST-MODIFIED:20230406T151842Z
UID:10009451-1676313000-1676320200@tseshaht.com
SUMMARY:Men's Support Group - Mondays
DESCRIPTION:
URL:https://tseshaht.com/event/mens-support-group-mondays/2023-02-13/
LOCATION:Tseshaht Family Center
CATEGORIES:Community
END:VEVENT
BEGIN:VEVENT
DTSTART;TZID=America/Vancouver:20230206T183000
DTEND;TZID=America/Vancouver:20230206T203000
DTSTAMP:20260424T031349
CREATED:20230202T163602Z
LAST-MODIFIED:20230406T151917Z
UID:10009467-1675708200-1675715400@tseshaht.com
SUMMARY:House of Regalia - Mondays
DESCRIPTION:
URL:https://tseshaht.com/event/house-of-regalia-mondays/2023-02-06/
LOCATION:House of Regalia
CATEGORIES:Community,Craft Night
END:VEVENT
BEGIN:VEVENT
DTSTART;TZID=America/Vancouver:20230206T183000
DTEND;TZID=America/Vancouver:20230206T203000
DTSTAMP:20260424T031349
CREATED:20230202T163441Z
LAST-MODIFIED:20230406T151842Z
UID:10009450-1675708200-1675715400@tseshaht.com
SUMMARY:Men's Support Group - Mondays
DESCRIPTION:
URL:https://tseshaht.com/event/mens-support-group-mondays/2023-02-06/
LOCATION:Tseshaht Family Center
CATEGORIES:Community
END:VEVENT
BEGIN:VEVENT
DTSTART;TZID=America/Vancouver:20230131T180000
DTEND;TZID=America/Vancouver:20230131T200000
DTSTAMP:20260424T031349
CREATED:20230123T235256Z
LAST-MODIFIED:20230124T000720Z
UID:10009439-1675188000-1675195200@tseshaht.com
SUMMARY:Special Community Meeting - 2023-01-31
DESCRIPTION:
URL:https://tseshaht.com/event/special-community-meeting-2023-01-31/
LOCATION:Great Room & Zoom
CATEGORIES:Community
END:VEVENT
BEGIN:VEVENT
DTSTART;TZID=America/Vancouver:20230119T173000
DTEND;TZID=America/Vancouver:20230119T200000
DTSTAMP:20260424T031349
CREATED:20230110T192340Z
LAST-MODIFIED:20230110T192340Z
UID:10009435-1674149400-1674158400@tseshaht.com
SUMMARY:Iwachis Settlement Celebration Dinner
DESCRIPTION:
URL:https://tseshaht.com/event/iwachis-settlement-celebration-dinner/
LOCATION:Maht Mahs Gym\, 5091 Tsuma-as Drive\, Port Alberni\, British Columbia\, V9Y 8X9\, Canada
CATEGORIES:Community
END:VEVENT
BEGIN:VEVENT
DTSTART;TZID=America/Vancouver:20230116T183000
DTEND;TZID=America/Vancouver:20230116T203000
DTSTAMP:20260424T031349
CREATED:20221114T223247Z
LAST-MODIFIED:20221114T223247Z
UID:10009297-1673893800-1673901000@tseshaht.com
SUMMARY:Tseshaht House of Regalia
DESCRIPTION:
URL:https://tseshaht.com/event/tseshaht-house-of-regalia/2023-01-16/
LOCATION:House of Regalia
CATEGORIES:Community,Craft Night
END:VEVENT
BEGIN:VEVENT
DTSTART;TZID=America/Vancouver:20230109T183000
DTEND;TZID=America/Vancouver:20230109T203000
DTSTAMP:20260424T031349
CREATED:20221114T223247Z
LAST-MODIFIED:20221114T223247Z
UID:10009296-1673289000-1673296200@tseshaht.com
SUMMARY:Tseshaht House of Regalia
DESCRIPTION:
URL:https://tseshaht.com/event/tseshaht-house-of-regalia/2023-01-09/
LOCATION:House of Regalia
CATEGORIES:Community,Craft Night
END:VEVENT
BEGIN:VEVENT
DTSTART;TZID=America/Vancouver:20230102T183000
DTEND;TZID=America/Vancouver:20230102T203000
DTSTAMP:20260424T031349
CREATED:20221114T223247Z
LAST-MODIFIED:20221114T223247Z
UID:10009295-1672684200-1672691400@tseshaht.com
SUMMARY:Tseshaht House of Regalia
DESCRIPTION:
URL:https://tseshaht.com/event/tseshaht-house-of-regalia/2023-01-02/
LOCATION:House of Regalia
CATEGORIES:Community,Craft Night
END:VEVENT
BEGIN:VEVENT
DTSTART;TZID=America/Vancouver:20221226T183000
DTEND;TZID=America/Vancouver:20221226T203000
DTSTAMP:20260424T031349
CREATED:20221114T223247Z
LAST-MODIFIED:20221114T223247Z
UID:10009294-1672079400-1672086600@tseshaht.com
SUMMARY:Tseshaht House of Regalia
DESCRIPTION:
URL:https://tseshaht.com/event/tseshaht-house-of-regalia/2022-12-26/
LOCATION:House of Regalia
CATEGORIES:Community,Craft Night
END:VEVENT
END:VCALENDAR