BEGIN:VCALENDAR
VERSION:2.0
PRODID:-//Tseshaht First Nation - ECPv6.15.20//NONSGML v1.0//EN
CALSCALE:GREGORIAN
METHOD:PUBLISH
X-WR-CALNAME:Tseshaht First Nation
X-ORIGINAL-URL:https://tseshaht.com
X-WR-CALDESC:Events for Tseshaht First Nation
REFRESH-INTERVAL;VALUE=DURATION:PT1H
X-Robots-Tag:noindex
X-PUBLISHED-TTL:PT1H
BEGIN:VTIMEZONE
TZID:America/Vancouver
BEGIN:DAYLIGHT
TZOFFSETFROM:-0800
TZOFFSETTO:-0700
TZNAME:PDT
DTSTART:20210314T100000
END:DAYLIGHT
BEGIN:STANDARD
TZOFFSETFROM:-0700
TZOFFSETTO:-0800
TZNAME:PST
DTSTART:20211107T090000
END:STANDARD
BEGIN:DAYLIGHT
TZOFFSETFROM:-0800
TZOFFSETTO:-0700
TZNAME:PDT
DTSTART:20220313T100000
END:DAYLIGHT
BEGIN:STANDARD
TZOFFSETFROM:-0700
TZOFFSETTO:-0800
TZNAME:PST
DTSTART:20221106T090000
END:STANDARD
BEGIN:DAYLIGHT
TZOFFSETFROM:-0800
TZOFFSETTO:-0700
TZNAME:PDT
DTSTART:20230312T100000
END:DAYLIGHT
BEGIN:STANDARD
TZOFFSETFROM:-0700
TZOFFSETTO:-0800
TZNAME:PST
DTSTART:20231105T090000
END:STANDARD
BEGIN:DAYLIGHT
TZOFFSETFROM:-0800
TZOFFSETTO:-0700
TZNAME:PDT
DTSTART:20240310T100000
END:DAYLIGHT
BEGIN:STANDARD
TZOFFSETFROM:-0700
TZOFFSETTO:-0800
TZNAME:PST
DTSTART:20241103T090000
END:STANDARD
END:VTIMEZONE
BEGIN:VEVENT
DTSTART;TZID=America/Vancouver:20221206T170000
DTEND;TZID=America/Vancouver:20230620T170000
DTSTAMP:20260424T084450
CREATED:20221117T182431Z
LAST-MODIFIED:20230406T151809Z
UID:10009313-1670346000-1687280400@tseshaht.com
SUMMARY:Yoga
DESCRIPTION:
URL:https://tseshaht.com/event/yoga/2022-12-06/
LOCATION:Tseshaht Family Center
END:VEVENT
BEGIN:VEVENT
DTSTART;TZID=America/Vancouver:20221205T183000
DTEND;TZID=America/Vancouver:20221205T203000
DTSTAMP:20260424T084450
CREATED:20221114T223247Z
LAST-MODIFIED:20221114T223247Z
UID:10009291-1670265000-1670272200@tseshaht.com
SUMMARY:Tseshaht House of Regalia
DESCRIPTION:
URL:https://tseshaht.com/event/tseshaht-house-of-regalia/2022-12-05/
LOCATION:House of Regalia
CATEGORIES:Community,Craft Night
END:VEVENT
BEGIN:VEVENT
DTSTART;TZID=America/Vancouver:20221205T164500
DTEND;TZID=America/Vancouver:20221205T180000
DTSTAMP:20260424T084450
CREATED:20221117T182608Z
LAST-MODIFIED:20221117T182748Z
UID:10009428-1670258700-1670263200@tseshaht.com
SUMMARY:Boot Camp
DESCRIPTION:
URL:https://tseshaht.com/event/boot-camp/2022-12-05/
LOCATION:Maht Mahs Gym\, 5091 Tsuma-as Drive\, Port Alberni\, British Columbia\, V9Y 8X9\, Canada
END:VEVENT
BEGIN:VEVENT
DTSTART;TZID=America/Vancouver:20221202T164500
DTEND;TZID=America/Vancouver:20221202T180000
DTSTAMP:20260424T084450
CREATED:20221117T182608Z
LAST-MODIFIED:20221117T182748Z
UID:10009427-1669999500-1670004000@tseshaht.com
SUMMARY:Boot Camp
DESCRIPTION:
URL:https://tseshaht.com/event/boot-camp/2022-12-02/
LOCATION:Maht Mahs Gym\, 5091 Tsuma-as Drive\, Port Alberni\, British Columbia\, V9Y 8X9\, Canada
END:VEVENT
BEGIN:VEVENT
DTSTART;TZID=America/Vancouver:20221202T110000
DTEND;TZID=America/Vancouver:20221202T173000
DTSTAMP:20260424T084450
CREATED:20221114T222404Z
LAST-MODIFIED:20221114T222404Z
UID:10009283-1669978800-1670002200@tseshaht.com
SUMMARY:Covid-19/Influenza Immunization Clinic
DESCRIPTION:
URL:https://tseshaht.com/event/covid-19-influenza-immunization-clinic/
LOCATION:Great Room
CATEGORIES:Community
END:VEVENT
BEGIN:VEVENT
DTSTART;TZID=America/Vancouver:20221201T170000
DTEND;TZID=America/Vancouver:20230615T170000
DTSTAMP:20260424T084450
CREATED:20221117T182431Z
LAST-MODIFIED:20230406T151809Z
UID:10009312-1669914000-1686848400@tseshaht.com
SUMMARY:Yoga
DESCRIPTION:
URL:https://tseshaht.com/event/yoga/2022-12-01/
LOCATION:Tseshaht Family Center
END:VEVENT
BEGIN:VEVENT
DTSTART;TZID=America/Vancouver:20221130T164500
DTEND;TZID=America/Vancouver:20221130T180000
DTSTAMP:20260424T084450
CREATED:20221117T182608Z
LAST-MODIFIED:20221117T182748Z
UID:10009426-1669826700-1669831200@tseshaht.com
SUMMARY:Boot Camp
DESCRIPTION:
URL:https://tseshaht.com/event/boot-camp/2022-11-30/
LOCATION:Maht Mahs Gym\, 5091 Tsuma-as Drive\, Port Alberni\, British Columbia\, V9Y 8X9\, Canada
END:VEVENT
BEGIN:VEVENT
DTSTART;TZID=America/Vancouver:20221130T160000
DTEND;TZID=America/Vancouver:20221130T180000
DTSTAMP:20260424T084450
CREATED:20221114T222854Z
LAST-MODIFIED:20221114T222906Z
UID:10009287-1669824000-1669831200@tseshaht.com
SUMMARY:Youth Covid-19 Debrief Engagement
DESCRIPTION:
URL:https://tseshaht.com/event/community-covid-19-debrief-engagement-3/
LOCATION:Great Room
CATEGORIES:Youth
END:VEVENT
BEGIN:VEVENT
DTSTART;TZID=America/Vancouver:20221129T170000
DTEND;TZID=America/Vancouver:20230613T170000
DTSTAMP:20260424T084450
CREATED:20221117T182431Z
LAST-MODIFIED:20230406T151809Z
UID:10009311-1669741200-1686675600@tseshaht.com
SUMMARY:Yoga
DESCRIPTION:
URL:https://tseshaht.com/event/yoga/2022-11-29/
LOCATION:Tseshaht Family Center
END:VEVENT
BEGIN:VEVENT
DTSTART;TZID=America/Vancouver:20221129T120000
DTEND;TZID=America/Vancouver:20221129T143000
DTSTAMP:20260424T084450
CREATED:20221114T222713Z
LAST-MODIFIED:20221114T222713Z
UID:10009285-1669723200-1669732200@tseshaht.com
SUMMARY:Elders Covid-19 Debrief Engagement
DESCRIPTION:
URL:https://tseshaht.com/event/elders-covid-19-debrief-engagement/
LOCATION:Great Room
END:VEVENT
BEGIN:VEVENT
DTSTART;TZID=America/Vancouver:20221128T183000
DTEND;TZID=America/Vancouver:20221128T203000
DTSTAMP:20260424T084450
CREATED:20221114T223247Z
LAST-MODIFIED:20221114T223247Z
UID:10009290-1669660200-1669667400@tseshaht.com
SUMMARY:Tseshaht House of Regalia
DESCRIPTION:
URL:https://tseshaht.com/event/tseshaht-house-of-regalia/2022-11-28/
LOCATION:House of Regalia
CATEGORIES:Community,Craft Night
END:VEVENT
BEGIN:VEVENT
DTSTART;TZID=America/Vancouver:20221128T164500
DTEND;TZID=America/Vancouver:20221128T180000
DTSTAMP:20260424T084450
CREATED:20221117T182608Z
LAST-MODIFIED:20221117T182748Z
UID:10009425-1669653900-1669658400@tseshaht.com
SUMMARY:Boot Camp
DESCRIPTION:
URL:https://tseshaht.com/event/boot-camp/2022-11-28/
LOCATION:Maht Mahs Gym\, 5091 Tsuma-as Drive\, Port Alberni\, British Columbia\, V9Y 8X9\, Canada
END:VEVENT
BEGIN:VEVENT
DTSTART;TZID=America/Vancouver:20221125T164500
DTEND;TZID=America/Vancouver:20221125T180000
DTSTAMP:20260424T084450
CREATED:20221117T182608Z
LAST-MODIFIED:20221117T182748Z
UID:10009424-1669394700-1669399200@tseshaht.com
SUMMARY:Boot Camp
DESCRIPTION:
URL:https://tseshaht.com/event/boot-camp/2022-11-25/
LOCATION:Maht Mahs Gym\, 5091 Tsuma-as Drive\, Port Alberni\, British Columbia\, V9Y 8X9\, Canada
END:VEVENT
BEGIN:VEVENT
DTSTART;TZID=America/Vancouver:20221124T173000
DTEND;TZID=America/Vancouver:20221124T200000
DTSTAMP:20260424T084450
CREATED:20221114T222554Z
LAST-MODIFIED:20221114T222554Z
UID:10009284-1669311000-1669320000@tseshaht.com
SUMMARY:Community Covid-19 Debrief Engagement
DESCRIPTION:
URL:https://tseshaht.com/event/community-covid-19-debrief-engagement/
LOCATION:Great Room
CATEGORIES:Community
END:VEVENT
BEGIN:VEVENT
DTSTART;TZID=America/Vancouver:20221124T170000
DTEND;TZID=America/Vancouver:20230608T170000
DTSTAMP:20260424T084450
CREATED:20221117T182431Z
LAST-MODIFIED:20230406T151809Z
UID:10009310-1669309200-1686243600@tseshaht.com
SUMMARY:Yoga
DESCRIPTION:
URL:https://tseshaht.com/event/yoga/2022-11-24/
LOCATION:Tseshaht Family Center
END:VEVENT
BEGIN:VEVENT
DTSTART;TZID=America/Vancouver:20221123T164500
DTEND;TZID=America/Vancouver:20221123T180000
DTSTAMP:20260424T084450
CREATED:20221117T182608Z
LAST-MODIFIED:20221117T182748Z
UID:10009423-1669221900-1669226400@tseshaht.com
SUMMARY:Boot Camp
DESCRIPTION:
URL:https://tseshaht.com/event/boot-camp/2022-11-23/
LOCATION:Maht Mahs Gym\, 5091 Tsuma-as Drive\, Port Alberni\, British Columbia\, V9Y 8X9\, Canada
END:VEVENT
BEGIN:VEVENT
DTSTART;TZID=America/Vancouver:20221122T180000
DTEND;TZID=America/Vancouver:20221122T203000
DTSTAMP:20260424T084450
CREATED:20221114T222210Z
LAST-MODIFIED:20221114T222210Z
UID:10009282-1669140000-1669149000@tseshaht.com
SUMMARY:Comedy Night with Comedian Don Burnstick
DESCRIPTION:
URL:https://tseshaht.com/event/comedy-night-with-comedian-don-burnstick/
LOCATION:Maht Mahs Gym\, 5091 Tsuma-as Drive\, Port Alberni\, British Columbia\, V9Y 8X9\, Canada
CATEGORIES:Community,Youth
END:VEVENT
BEGIN:VEVENT
DTSTART;TZID=America/Vancouver:20221122T170000
DTEND;TZID=America/Vancouver:20230606T170000
DTSTAMP:20260424T084450
CREATED:20221117T182431Z
LAST-MODIFIED:20230406T151809Z
UID:10009309-1669136400-1686070800@tseshaht.com
SUMMARY:Yoga
DESCRIPTION:
URL:https://tseshaht.com/event/yoga/2022-11-22/
LOCATION:Tseshaht Family Center
END:VEVENT
BEGIN:VEVENT
DTSTART;TZID=America/Vancouver:20221121T183000
DTEND;TZID=America/Vancouver:20221121T203000
DTSTAMP:20260424T084450
CREATED:20221114T223247Z
LAST-MODIFIED:20221114T223247Z
UID:10009289-1669055400-1669062600@tseshaht.com
SUMMARY:Tseshaht House of Regalia
DESCRIPTION:
URL:https://tseshaht.com/event/tseshaht-house-of-regalia/2022-11-21/
LOCATION:House of Regalia
CATEGORIES:Community,Craft Night
END:VEVENT
BEGIN:VEVENT
DTSTART;TZID=America/Vancouver:20221121T164500
DTEND;TZID=America/Vancouver:20221121T180000
DTSTAMP:20260424T084450
CREATED:20221117T182608Z
LAST-MODIFIED:20221117T182748Z
UID:10009422-1669049100-1669053600@tseshaht.com
SUMMARY:Boot Camp
DESCRIPTION:
URL:https://tseshaht.com/event/boot-camp/2022-11-21/
LOCATION:Maht Mahs Gym\, 5091 Tsuma-as Drive\, Port Alberni\, British Columbia\, V9Y 8X9\, Canada
END:VEVENT
BEGIN:VEVENT
DTSTART;TZID=America/Vancouver:20221118T164500
DTEND;TZID=America/Vancouver:20221118T180000
DTSTAMP:20260424T084450
CREATED:20221117T182608Z
LAST-MODIFIED:20221117T182748Z
UID:10009421-1668789900-1668794400@tseshaht.com
SUMMARY:Boot Camp
DESCRIPTION:
URL:https://tseshaht.com/event/boot-camp/2022-11-18/
LOCATION:Maht Mahs Gym\, 5091 Tsuma-as Drive\, Port Alberni\, British Columbia\, V9Y 8X9\, Canada
END:VEVENT
BEGIN:VEVENT
DTSTART;TZID=America/Vancouver:20221117T170000
DTEND;TZID=America/Vancouver:20230601T170000
DTSTAMP:20260424T084450
CREATED:20221117T182431Z
LAST-MODIFIED:20230406T151809Z
UID:10009308-1668704400-1685638800@tseshaht.com
SUMMARY:Yoga
DESCRIPTION:
URL:https://tseshaht.com/event/yoga/2022-11-17/
LOCATION:Tseshaht Family Center
END:VEVENT
BEGIN:VEVENT
DTSTART;TZID=America/Vancouver:20221114T183000
DTEND;TZID=America/Vancouver:20221114T203000
DTSTAMP:20260424T084450
CREATED:20221114T223247Z
LAST-MODIFIED:20221114T223247Z
UID:10009288-1668450600-1668457800@tseshaht.com
SUMMARY:Tseshaht House of Regalia
DESCRIPTION:
URL:https://tseshaht.com/event/tseshaht-house-of-regalia/2022-11-14/
LOCATION:House of Regalia
CATEGORIES:Community,Craft Night
END:VEVENT
BEGIN:VEVENT
DTSTART;TZID=America/Vancouver:20221031T143000
DTEND;TZID=America/Vancouver:20221031T160000
DTSTAMP:20260424T084450
CREATED:20221019T233533Z
LAST-MODIFIED:20221019T233533Z
UID:10009281-1667226600-1667232000@tseshaht.com
SUMMARY:Trick or Treat
DESCRIPTION:
URL:https://tseshaht.com/event/trick-or-treat/
LOCATION:Tseshaht First Nation Administration Building\, 5091 Tsuma-as Dr.\, Port Alberni\, BC\, V9Y8X9\, Canada
CATEGORIES:Community,Youth
END:VEVENT
BEGIN:VEVENT
DTSTART;TZID=America/Vancouver:20221030T090000
DTEND;TZID=America/Vancouver:20221030T150000
DTSTAMP:20260424T084450
CREATED:20221019T232940Z
LAST-MODIFIED:20221019T232940Z
UID:10009277-1667120400-1667142000@tseshaht.com
SUMMARY:Tseshaht 2022 AGM
DESCRIPTION:
URL:https://tseshaht.com/event/tseshaht-2022-agm/2022-10-30/
LOCATION:Haahuupayak School\, 6000 Santu Dr.\, Port Alberni\, BC\, V9Y8X9\, Canada
CATEGORIES:Community
END:VEVENT
BEGIN:VEVENT
DTSTART;TZID=America/Vancouver:20221029T090000
DTEND;TZID=America/Vancouver:20221029T150000
DTSTAMP:20260424T084450
CREATED:20221019T232940Z
LAST-MODIFIED:20221019T232940Z
UID:10009276-1667034000-1667055600@tseshaht.com
SUMMARY:Tseshaht 2022 AGM
DESCRIPTION:
URL:https://tseshaht.com/event/tseshaht-2022-agm/2022-10-29/
LOCATION:Haahuupayak School\, 6000 Santu Dr.\, Port Alberni\, BC\, V9Y8X9\, Canada
CATEGORIES:Community
END:VEVENT
BEGIN:VEVENT
DTSTART;TZID=America/Vancouver:20221024T190000
DTEND;TZID=America/Vancouver:20221024T213000
DTSTAMP:20260424T084450
CREATED:20221019T233136Z
LAST-MODIFIED:20221019T233136Z
UID:10009278-1666638000-1666647000@tseshaht.com
SUMMARY:Community Meeting
DESCRIPTION:
URL:https://tseshaht.com/event/community-meeting/
LOCATION:Great Room
CATEGORIES:Community
END:VEVENT
BEGIN:VEVENT
DTSTART;TZID=America/Vancouver:20220930T110000
DTEND;TZID=America/Vancouver:20220930T170000
DTSTAMP:20260424T084450
CREATED:20220925T210748Z
LAST-MODIFIED:20220925T210819Z
UID:10009275-1664535600-1664557200@tseshaht.com
SUMMARY:Orange Shirt Day Walk
DESCRIPTION:
URL:https://tseshaht.com/event/101250/
CATEGORIES:Community
END:VEVENT
BEGIN:VEVENT
DTSTART;TZID=America/Vancouver:20220621T050000
DTEND;TZID=America/Vancouver:20220621T220000
DTSTAMP:20260424T084450
CREATED:20220505T233804Z
LAST-MODIFIED:20220505T233804Z
UID:10009258-1655787600-1655848800@tseshaht.com
SUMMARY:RE-AWAKENING OF ƛUUKᵂATQUUʔIS: WOLF TOWER UNVEILING - 2022-06-21
DESCRIPTION:
URL:https://tseshaht.com/event/re-awakening-of-%c6%9buuk%e1%b5%82atquu%ca%94is-wolf-tower-unveiling/
LOCATION:Harbour Quay
CATEGORIES:Community
END:VEVENT
BEGIN:VEVENT
DTSTART;TZID=America/Vancouver:20220524T170000
DTEND;TZID=America/Vancouver:20220524T193000
DTSTAMP:20260424T084450
CREATED:20220519T201627Z
LAST-MODIFIED:20220519T201627Z
UID:10009261-1653411600-1653420600@tseshaht.com
SUMMARY:Elders Dinner and Info Sharing - May 24\, 2022
DESCRIPTION:
URL:https://tseshaht.com/event/elders-dinner-and-info-sharing-may-24-2022/
LOCATION:Maht Mahs Gym\, 5091 Tsuma-as Drive\, Port Alberni\, British Columbia\, V9Y 8X9\, Canada
END:VEVENT
END:VCALENDAR