BEGIN:VCALENDAR
VERSION:2.0
PRODID:-//Tseshaht First Nation - ECPv6.15.20//NONSGML v1.0//EN
CALSCALE:GREGORIAN
METHOD:PUBLISH
X-ORIGINAL-URL:https://tseshaht.com
X-WR-CALDESC:Events for Tseshaht First Nation
REFRESH-INTERVAL;VALUE=DURATION:PT1H
X-Robots-Tag:noindex
X-PUBLISHED-TTL:PT1H
BEGIN:VTIMEZONE
TZID:America/Vancouver
BEGIN:DAYLIGHT
TZOFFSETFROM:-0800
TZOFFSETTO:-0700
TZNAME:PDT
DTSTART:20170312T100000
END:DAYLIGHT
BEGIN:STANDARD
TZOFFSETFROM:-0700
TZOFFSETTO:-0800
TZNAME:PST
DTSTART:20171105T090000
END:STANDARD
BEGIN:DAYLIGHT
TZOFFSETFROM:-0800
TZOFFSETTO:-0700
TZNAME:PDT
DTSTART:20180311T100000
END:DAYLIGHT
BEGIN:STANDARD
TZOFFSETFROM:-0700
TZOFFSETTO:-0800
TZNAME:PST
DTSTART:20181104T090000
END:STANDARD
BEGIN:DAYLIGHT
TZOFFSETFROM:-0800
TZOFFSETTO:-0700
TZNAME:PDT
DTSTART:20190310T100000
END:DAYLIGHT
BEGIN:STANDARD
TZOFFSETFROM:-0700
TZOFFSETTO:-0800
TZNAME:PST
DTSTART:20191103T090000
END:STANDARD
END:VTIMEZONE
BEGIN:VEVENT
DTSTART;VALUE=DATE:20181201
DTEND;VALUE=DATE:20181203
DTSTAMP:20260424T135830
CREATED:20181010T225149Z
LAST-MODIFIED:20181010T231823Z
UID:10008930-1543622400-1543795199@tseshaht.com
SUMMARY:Christmas Craft Fair
DESCRIPTION:
URL:https://tseshaht.com/event/christmas-craft-fair/
LOCATION:Italian Hall 4065 6th Ave. Port Alberni\, BC\, 5000 Mission Road\, Port Alberni\, BC\, V9Y8X9
CATEGORIES:Community
END:VEVENT
BEGIN:VEVENT
DTSTART;VALUE=DATE:20181027
DTEND;VALUE=DATE:20181028
DTSTAMP:20260424T135830
CREATED:20181010T225044Z
LAST-MODIFIED:20181010T231537Z
UID:10008929-1540598400-1540684799@tseshaht.com
SUMMARY:Community Halloween Party
DESCRIPTION:
URL:https://tseshaht.com/event/community-halloween-party/
LOCATION:Italian Hall 4065 6th Ave. Port Alberni\, BC\, 5000 Mission Road\, Port Alberni\, BC\, V9Y8X9
CATEGORIES:Community
END:VEVENT
BEGIN:VEVENT
DTSTART;TZID=America/Vancouver:20181001T080000
DTEND;TZID=America/Vancouver:20181003T120000
DTSTAMP:20260424T135830
CREATED:20180911T231209Z
LAST-MODIFIED:20180927T171738Z
UID:10008928-1538380800-1538568000@tseshaht.com
SUMMARY:Reconnecting\, Reuniting & Rebuilding - Harm Reduction Conference
DESCRIPTION:
URL:https://tseshaht.com/event/reconnecting-reuniting-rebuilding-harm-reduction-conference/
LOCATION:Italian Hall 4065 6th Ave. Port Alberni\, BC\, 5000 Mission Road\, Port Alberni\, BC\, V9Y8X9
CATEGORIES:Community,Youth
END:VEVENT
BEGIN:VEVENT
DTSTART;TZID=America/Vancouver:20180821T170000
DTEND;TZID=America/Vancouver:20180822T120000
DTSTAMP:20260424T135830
CREATED:20180820T165212Z
LAST-MODIFIED:20180820T170007Z
UID:10008927-1534870800-1534939200@tseshaht.com
SUMMARY:Tseshaht Youth Sleepover
DESCRIPTION:Ages: 12+ \nWhen: Tuesday August 21st 5pm – Wednesday August 22nd 12 noon \nWhere: Youth Center \nDinner\, snacks and breakfast will be provided \nWhat to bring: Sleeping bag\, Pillow\, PJs \nWaiver forms will need to be filled out by parents by noon on Tuesday
URL:https://tseshaht.com/event/tseshaht-youth-sleepover/
LOCATION:Tseshaht Youth Center\, 6666 Saiyatchapis\, Port Alberni\, BC\, V9Y8Y2
CATEGORIES:Community,Youth
END:VEVENT
END:VCALENDAR