BEGIN:VCALENDAR
VERSION:2.0
PRODID:-//Tseshaht First Nation - ECPv6.15.20//NONSGML v1.0//EN
CALSCALE:GREGORIAN
METHOD:PUBLISH
X-WR-CALNAME:Tseshaht First Nation
X-ORIGINAL-URL:https://tseshaht.com
X-WR-CALDESC:Events for Tseshaht First Nation
REFRESH-INTERVAL;VALUE=DURATION:PT1H
X-Robots-Tag:noindex
X-PUBLISHED-TTL:PT1H
BEGIN:VTIMEZONE
TZID:America/Vancouver
BEGIN:DAYLIGHT
TZOFFSETFROM:-0800
TZOFFSETTO:-0700
TZNAME:PDT
DTSTART:20220313T100000
END:DAYLIGHT
BEGIN:STANDARD
TZOFFSETFROM:-0700
TZOFFSETTO:-0800
TZNAME:PST
DTSTART:20221106T090000
END:STANDARD
BEGIN:DAYLIGHT
TZOFFSETFROM:-0800
TZOFFSETTO:-0700
TZNAME:PDT
DTSTART:20230312T100000
END:DAYLIGHT
BEGIN:STANDARD
TZOFFSETFROM:-0700
TZOFFSETTO:-0800
TZNAME:PST
DTSTART:20231105T090000
END:STANDARD
BEGIN:DAYLIGHT
TZOFFSETFROM:-0800
TZOFFSETTO:-0700
TZNAME:PDT
DTSTART:20240310T100000
END:DAYLIGHT
BEGIN:STANDARD
TZOFFSETFROM:-0700
TZOFFSETTO:-0800
TZNAME:PST
DTSTART:20241103T090000
END:STANDARD
END:VTIMEZONE
BEGIN:VEVENT
DTSTART;TZID=America/Vancouver:20230806T180000
DTEND;TZID=America/Vancouver:20230806T200000
DTSTAMP:20260425T102425
CREATED:20230406T152312Z
LAST-MODIFIED:20230406T152604Z
UID:10009878-1691344800-1691352000@tseshaht.com
SUMMARY:Fitness Gym
DESCRIPTION:
URL:https://tseshaht.com/event/fitness-gym-5-2/2023-08-06/
LOCATION:Tseshaht Fitness Gym
CATEGORIES:Fitness Gym
END:VEVENT
BEGIN:VEVENT
DTSTART;TZID=America/Vancouver:20230730T180000
DTEND;TZID=America/Vancouver:20230730T200000
DTSTAMP:20260425T102425
CREATED:20230406T152312Z
LAST-MODIFIED:20230406T152604Z
UID:10009877-1690740000-1690747200@tseshaht.com
SUMMARY:Fitness Gym
DESCRIPTION:
URL:https://tseshaht.com/event/fitness-gym-5-2/2023-07-30/
LOCATION:Tseshaht Fitness Gym
CATEGORIES:Fitness Gym
END:VEVENT
BEGIN:VEVENT
DTSTART;TZID=America/Vancouver:20230723T180000
DTEND;TZID=America/Vancouver:20230723T200000
DTSTAMP:20260425T102425
CREATED:20230406T152312Z
LAST-MODIFIED:20230406T152604Z
UID:10009876-1690135200-1690142400@tseshaht.com
SUMMARY:Fitness Gym
DESCRIPTION:
URL:https://tseshaht.com/event/fitness-gym-5-2/2023-07-23/
LOCATION:Tseshaht Fitness Gym
CATEGORIES:Fitness Gym
END:VEVENT
BEGIN:VEVENT
DTSTART;TZID=America/Vancouver:20230716T180000
DTEND;TZID=America/Vancouver:20230716T200000
DTSTAMP:20260425T102425
CREATED:20230406T152312Z
LAST-MODIFIED:20230406T152604Z
UID:10009875-1689530400-1689537600@tseshaht.com
SUMMARY:Fitness Gym
DESCRIPTION:
URL:https://tseshaht.com/event/fitness-gym-5-2/2023-07-16/
LOCATION:Tseshaht Fitness Gym
CATEGORIES:Fitness Gym
END:VEVENT
BEGIN:VEVENT
DTSTART;TZID=America/Vancouver:20230709T180000
DTEND;TZID=America/Vancouver:20230709T200000
DTSTAMP:20260425T102425
CREATED:20230406T152312Z
LAST-MODIFIED:20230406T152604Z
UID:10009874-1688925600-1688932800@tseshaht.com
SUMMARY:Fitness Gym
DESCRIPTION:
URL:https://tseshaht.com/event/fitness-gym-5-2/2023-07-09/
LOCATION:Tseshaht Fitness Gym
CATEGORIES:Fitness Gym
END:VEVENT
BEGIN:VEVENT
DTSTART;TZID=America/Vancouver:20230702T180000
DTEND;TZID=America/Vancouver:20230702T200000
DTSTAMP:20260425T102425
CREATED:20230406T152312Z
LAST-MODIFIED:20230406T152604Z
UID:10009873-1688320800-1688328000@tseshaht.com
SUMMARY:Fitness Gym
DESCRIPTION:
URL:https://tseshaht.com/event/fitness-gym-5-2/2023-07-02/
LOCATION:Tseshaht Fitness Gym
CATEGORIES:Fitness Gym
END:VEVENT
BEGIN:VEVENT
DTSTART;TZID=America/Vancouver:20230625T180000
DTEND;TZID=America/Vancouver:20230625T200000
DTSTAMP:20260425T102425
CREATED:20230406T152312Z
LAST-MODIFIED:20230406T152604Z
UID:10009711-1687716000-1687723200@tseshaht.com
SUMMARY:Fitness Gym
DESCRIPTION:
URL:https://tseshaht.com/event/fitness-gym-5-2/2023-06-25/
LOCATION:Tseshaht Fitness Gym
CATEGORIES:Fitness Gym
END:VEVENT
BEGIN:VEVENT
DTSTART;TZID=America/Vancouver:20230618T180000
DTEND;TZID=America/Vancouver:20230618T200000
DTSTAMP:20260425T102425
CREATED:20230406T152312Z
LAST-MODIFIED:20230406T152604Z
UID:10009710-1687111200-1687118400@tseshaht.com
SUMMARY:Fitness Gym
DESCRIPTION:
URL:https://tseshaht.com/event/fitness-gym-5-2/2023-06-18/
LOCATION:Tseshaht Fitness Gym
CATEGORIES:Fitness Gym
END:VEVENT
BEGIN:VEVENT
DTSTART;TZID=America/Vancouver:20230611T180000
DTEND;TZID=America/Vancouver:20230611T200000
DTSTAMP:20260425T102425
CREATED:20230406T152312Z
LAST-MODIFIED:20230406T152604Z
UID:10009709-1686506400-1686513600@tseshaht.com
SUMMARY:Fitness Gym
DESCRIPTION:
URL:https://tseshaht.com/event/fitness-gym-5-2/2023-06-11/
LOCATION:Tseshaht Fitness Gym
CATEGORIES:Fitness Gym
END:VEVENT
BEGIN:VEVENT
DTSTART;TZID=America/Vancouver:20230604T180000
DTEND;TZID=America/Vancouver:20230604T200000
DTSTAMP:20260425T102425
CREATED:20230406T152312Z
LAST-MODIFIED:20230406T152604Z
UID:10009708-1685901600-1685908800@tseshaht.com
SUMMARY:Fitness Gym
DESCRIPTION:
URL:https://tseshaht.com/event/fitness-gym-5-2/2023-06-04/
LOCATION:Tseshaht Fitness Gym
CATEGORIES:Fitness Gym
END:VEVENT
BEGIN:VEVENT
DTSTART;TZID=America/Vancouver:20230528T180000
DTEND;TZID=America/Vancouver:20230528T200000
DTSTAMP:20260425T102425
CREATED:20230406T152312Z
LAST-MODIFIED:20230406T152604Z
UID:10009707-1685296800-1685304000@tseshaht.com
SUMMARY:Fitness Gym
DESCRIPTION:
URL:https://tseshaht.com/event/fitness-gym-5-2/2023-05-28/
LOCATION:Tseshaht Fitness Gym
CATEGORIES:Fitness Gym
END:VEVENT
BEGIN:VEVENT
DTSTART;TZID=America/Vancouver:20230521T180000
DTEND;TZID=America/Vancouver:20230521T200000
DTSTAMP:20260425T102425
CREATED:20230406T152312Z
LAST-MODIFIED:20230406T152604Z
UID:10009706-1684692000-1684699200@tseshaht.com
SUMMARY:Fitness Gym
DESCRIPTION:
URL:https://tseshaht.com/event/fitness-gym-5-2/2023-05-21/
LOCATION:Tseshaht Fitness Gym
CATEGORIES:Fitness Gym
END:VEVENT
BEGIN:VEVENT
DTSTART;TZID=America/Vancouver:20230514T180000
DTEND;TZID=America/Vancouver:20230514T200000
DTSTAMP:20260425T102425
CREATED:20230406T152312Z
LAST-MODIFIED:20230406T152604Z
UID:10009705-1684087200-1684094400@tseshaht.com
SUMMARY:Fitness Gym
DESCRIPTION:
URL:https://tseshaht.com/event/fitness-gym-5-2/2023-05-14/
LOCATION:Tseshaht Fitness Gym
CATEGORIES:Fitness Gym
END:VEVENT
BEGIN:VEVENT
DTSTART;TZID=America/Vancouver:20230507T180000
DTEND;TZID=America/Vancouver:20230507T200000
DTSTAMP:20260425T102425
CREATED:20230406T152312Z
LAST-MODIFIED:20230406T152604Z
UID:10009704-1683482400-1683489600@tseshaht.com
SUMMARY:Fitness Gym
DESCRIPTION:
URL:https://tseshaht.com/event/fitness-gym-5-2/2023-05-07/
LOCATION:Tseshaht Fitness Gym
CATEGORIES:Fitness Gym
END:VEVENT
BEGIN:VEVENT
DTSTART;TZID=America/Vancouver:20230430T180000
DTEND;TZID=America/Vancouver:20230430T200000
DTSTAMP:20260425T102425
CREATED:20230406T152312Z
LAST-MODIFIED:20230406T152604Z
UID:10009703-1682877600-1682884800@tseshaht.com
SUMMARY:Fitness Gym
DESCRIPTION:
URL:https://tseshaht.com/event/fitness-gym-5-2/2023-04-30/
LOCATION:Tseshaht Fitness Gym
CATEGORIES:Fitness Gym
END:VEVENT
BEGIN:VEVENT
DTSTART;TZID=America/Vancouver:20230423T180000
DTEND;TZID=America/Vancouver:20230423T200000
DTSTAMP:20260425T102425
CREATED:20230406T152312Z
LAST-MODIFIED:20230406T152604Z
UID:10009702-1682272800-1682280000@tseshaht.com
SUMMARY:Fitness Gym
DESCRIPTION:
URL:https://tseshaht.com/event/fitness-gym-5-2/2023-04-23/
LOCATION:Tseshaht Fitness Gym
CATEGORIES:Fitness Gym
END:VEVENT
BEGIN:VEVENT
DTSTART;TZID=America/Vancouver:20230416T180000
DTEND;TZID=America/Vancouver:20230416T200000
DTSTAMP:20260425T102425
CREATED:20230406T152312Z
LAST-MODIFIED:20230406T152604Z
UID:10009701-1681668000-1681675200@tseshaht.com
SUMMARY:Fitness Gym
DESCRIPTION:
URL:https://tseshaht.com/event/fitness-gym-5-2/2023-04-16/
LOCATION:Tseshaht Fitness Gym
CATEGORIES:Fitness Gym
END:VEVENT
BEGIN:VEVENT
DTSTART;TZID=America/Vancouver:20230409T180000
DTEND;TZID=America/Vancouver:20230409T200000
DTSTAMP:20260425T102425
CREATED:20230406T152312Z
LAST-MODIFIED:20230406T152604Z
UID:10009700-1681063200-1681070400@tseshaht.com
SUMMARY:Fitness Gym
DESCRIPTION:
URL:https://tseshaht.com/event/fitness-gym-5-2/2023-04-09/
LOCATION:Tseshaht Fitness Gym
CATEGORIES:Fitness Gym
END:VEVENT
END:VCALENDAR